BEGIN:VCALENDAR
VERSION:2.0
PRODID:-//CRS (Center for Remembering &amp; Sharing) - ECPv6.15.20//NONSGML v1.0//EN
CALSCALE:GREGORIAN
METHOD:PUBLISH
X-ORIGINAL-URL:https://crsny.org
X-WR-CALDESC:Events for CRS (Center for Remembering &amp; Sharing)
REFRESH-INTERVAL;VALUE=DURATION:PT1H
X-Robots-Tag:noindex
X-PUBLISHED-TTL:PT1H
BEGIN:VTIMEZONE
TZID:America/New_York
BEGIN:DAYLIGHT
TZOFFSETFROM:-0500
TZOFFSETTO:-0400
TZNAME:EDT
DTSTART:20150308T070000
END:DAYLIGHT
BEGIN:STANDARD
TZOFFSETFROM:-0400
TZOFFSETTO:-0500
TZNAME:EST
DTSTART:20151101T060000
END:STANDARD
BEGIN:DAYLIGHT
TZOFFSETFROM:-0500
TZOFFSETTO:-0400
TZNAME:EDT
DTSTART:20160313T070000
END:DAYLIGHT
BEGIN:STANDARD
TZOFFSETFROM:-0400
TZOFFSETTO:-0500
TZNAME:EST
DTSTART:20161106T060000
END:STANDARD
BEGIN:DAYLIGHT
TZOFFSETFROM:-0500
TZOFFSETTO:-0400
TZNAME:EDT
DTSTART:20170312T070000
END:DAYLIGHT
BEGIN:STANDARD
TZOFFSETFROM:-0400
TZOFFSETTO:-0500
TZNAME:EST
DTSTART:20171105T060000
END:STANDARD
END:VTIMEZONE
BEGIN:VEVENT
DTSTART;TZID=America/New_York:20160912T153000
DTEND;TZID=America/New_York:20160912T173000
DTSTAMP:20260425T113134
CREATED:20160902T025949Z
LAST-MODIFIED:20160902T025949Z
UID:25724-1473694200-1473701400@crsny.org
SUMMARY:Fundamentals of Kabbalah
DESCRIPTION:The Fundamentals Semester course introduces students to the Fundamentals of Kabbalah using key Kabbalistic articles to lay the foundation of key concepts in Kabbalah. It describes the method to rise from our world to spirituality. Kabbalah is a very practical study – why do we act the way we do? Why is the world experiencing so many crises today? As the course progresses\, you are led into a very personal journey of discovery as you examine your response to the writings of the greatest Kabbalists of our time. \nClass Schedule: 10 weeks\, once a week (no class 10/3 or 10/24). Each lesson is 2 hours long. \nTuition: $150 for 10 week course. Tuition Includes $40 Text Book! \n\n\n\nLesson 1 – The Essence of the Wisdom of Kabbalah\n\n\nLesson 2 – The Spiritual Perception of Reality\n\n\nLesson 3 – The Importance of Kabbalah Books with an Emphasis on the Reforming Light\n\n\nLesson 4 – From the Love of Others to the Love of the Creator\n\n\nLesson 5 – The Environment and Free Will\n\n\nLesson 6 – General Rehearsal and the Kabbalistic Meal\n\n\nLesson 7 – The Soul of Adam and the Shattering of the Soul\n\n\nLesson 8 – There is None else Besides Him\n\n\n\n\n\n\nLesson 9 – The Role of Israel\n\n\nLesson 10 – Summation and Spiritual Meal
URL:https://crsny.org/event/fundamentals-of-kabbalah/2016-09-12/
LOCATION:CRS (Center for Remembering & Sharing)\, 41 E 11th St 11th Fl\, New York\, NY\, 10003\, United States
CATEGORIES:Guest Event
ATTACH;FMTTYPE=image/png:https://crsny.org/wp-content/uploads/2016/09/bb-campus-horizontal.png
ORGANIZER;CN="Bnei Baruch Kabbalah Education Center":MAILTO:bbny@kabbalah.info
GEO:40.733158;-73.992729
X-APPLE-STRUCTURED-LOCATION;VALUE=URI;X-ADDRESS=CRS (Center for Remembering & Sharing) 41 E 11th St 11th Fl New York NY 10003 United States;X-APPLE-RADIUS=500;X-TITLE=41 E 11th St 11th Fl:geo:-73.992729,40.733158
END:VEVENT
END:VCALENDAR