BEGIN:VCALENDAR
VERSION:2.0
PRODID:-//CRS (Center for Remembering &amp; Sharing) - ECPv6.15.20//NONSGML v1.0//EN
CALSCALE:GREGORIAN
METHOD:PUBLISH
X-WR-CALNAME:CRS (Center for Remembering &amp; Sharing)
X-ORIGINAL-URL:https://crsny.org
X-WR-CALDESC:Events for CRS (Center for Remembering &amp; Sharing)
REFRESH-INTERVAL;VALUE=DURATION:PT1H
X-Robots-Tag:noindex
X-PUBLISHED-TTL:PT1H
BEGIN:VTIMEZONE
TZID:America/New_York
BEGIN:DAYLIGHT
TZOFFSETFROM:-0500
TZOFFSETTO:-0400
TZNAME:EDT
DTSTART:20150308T070000
END:DAYLIGHT
BEGIN:STANDARD
TZOFFSETFROM:-0400
TZOFFSETTO:-0500
TZNAME:EST
DTSTART:20151101T060000
END:STANDARD
BEGIN:DAYLIGHT
TZOFFSETFROM:-0500
TZOFFSETTO:-0400
TZNAME:EDT
DTSTART:20160313T070000
END:DAYLIGHT
BEGIN:STANDARD
TZOFFSETFROM:-0400
TZOFFSETTO:-0500
TZNAME:EST
DTSTART:20161106T060000
END:STANDARD
BEGIN:DAYLIGHT
TZOFFSETFROM:-0500
TZOFFSETTO:-0400
TZNAME:EDT
DTSTART:20170312T070000
END:DAYLIGHT
BEGIN:STANDARD
TZOFFSETFROM:-0400
TZOFFSETTO:-0500
TZNAME:EST
DTSTART:20171105T060000
END:STANDARD
END:VTIMEZONE
BEGIN:VEVENT
DTSTART;TZID=America/New_York:20160505T160000
DTEND;TZID=America/New_York:20160505T180000
DTSTAMP:20260422T222001
CREATED:20160505T223132Z
LAST-MODIFIED:20160505T223132Z
UID:3427-1462464000-1462471200@crsny.org
SUMMARY:Living Your Course:  Applying the Principles of A Course in Miracles to Your Daily Life
DESCRIPTION:John Davisi has teamed up with friend Dr. Tony Ortega\, a licensed clinical psychologist and life coach\, to offer an exciting new workshop! \nAs spiritual coaches\, both John and Tony use the principles of A Course in Miracles as the basis for the work they do with their clients; showing them how to apply these principles to their lives in order to affect the healing and change they are seeking. \nIn Living Your Course\, John and Tony do the same for you! This is NOT a Course study group. For each workshop\, a topic is chosen representing an emotional or physical issue we all experience in our daily lives. John and Tony use their years of experience in coaching to give you a clear roadmap using the principles of the Course to help you deal with these every day issues in a healing\, loving\, and peaceful way. \nA Course in Miracles offers many principles to help you shift your perceptions from fear to love\, allowing you to live a more peaceful\, happier life. Several spiritual teachers base their work on the Course\, including best-selling authors Marianne Williamson (A Return to Love\, The Law of Divine Compensation)\, Gabby Bernstein (Spirit Junkie\, Miracles Now)\, and August Gold (The Prayer Chest). \nSign up for an upcoming workshop at www.johndavisi.com/lyc
URL:https://crsny.org/event/living-your-course-applying-the-principles-of-a-course-in-miracles-to-your-daily-life-2/2016-05-05/
LOCATION:CRS (Center for Remembering & Sharing)\, 41 E 11th St 11th Fl\, New York\, NY\, 10003\, United States
CATEGORIES:ACIM-Related Event,Guest Event
ATTACH;FMTTYPE=image/jpeg:https://crsny.org/wp-content/uploads/2016/01/John-Davisi.jpg
ORGANIZER;CN="John Davisi":MAILTO:livingyourcourse@gmail.com
GEO:40.733158;-73.992729
X-APPLE-STRUCTURED-LOCATION;VALUE=URI;X-ADDRESS=CRS (Center for Remembering & Sharing) 41 E 11th St 11th Fl New York NY 10003 United States;X-APPLE-RADIUS=500;X-TITLE=41 E 11th St 11th Fl:geo:-73.992729,40.733158
END:VEVENT
END:VCALENDAR