BEGIN:VCALENDAR
VERSION:2.0
PRODID:-//CRS (Center for Remembering &amp; Sharing) - ECPv6.15.20//NONSGML v1.0//EN
CALSCALE:GREGORIAN
METHOD:PUBLISH
X-ORIGINAL-URL:https://crsny.org
X-WR-CALDESC:Events for CRS (Center for Remembering &amp; Sharing)
REFRESH-INTERVAL;VALUE=DURATION:PT1H
X-Robots-Tag:noindex
X-PUBLISHED-TTL:PT1H
BEGIN:VTIMEZONE
TZID:America/New_York
BEGIN:DAYLIGHT
TZOFFSETFROM:-0500
TZOFFSETTO:-0400
TZNAME:EDT
DTSTART:20150308T070000
END:DAYLIGHT
BEGIN:STANDARD
TZOFFSETFROM:-0400
TZOFFSETTO:-0500
TZNAME:EST
DTSTART:20151101T060000
END:STANDARD
BEGIN:DAYLIGHT
TZOFFSETFROM:-0500
TZOFFSETTO:-0400
TZNAME:EDT
DTSTART:20160313T070000
END:DAYLIGHT
BEGIN:STANDARD
TZOFFSETFROM:-0400
TZOFFSETTO:-0500
TZNAME:EST
DTSTART:20161106T060000
END:STANDARD
BEGIN:DAYLIGHT
TZOFFSETFROM:-0500
TZOFFSETTO:-0400
TZNAME:EDT
DTSTART:20170312T070000
END:DAYLIGHT
BEGIN:STANDARD
TZOFFSETFROM:-0400
TZOFFSETTO:-0500
TZNAME:EST
DTSTART:20171105T060000
END:STANDARD
END:VTIMEZONE
BEGIN:VEVENT
DTSTART;TZID=America/New_York:20160909T151500
DTEND;TZID=America/New_York:20160909T171500
DTSTAMP:20260423T163841
CREATED:20160901T225522Z
LAST-MODIFIED:20160901T225839Z
UID:25711-1473434100-1473441300@crsny.org
SUMMARY:Overcoming our Spiritual Malady:  A Ten Session Seminar on the philosophy of Spiritual Disease with Jim Roi
DESCRIPTION:Spiritual dis-ease is not a concept\, nor is it a medical condition; it is not fundamentally cognitive or behavioral\, though it rules both our thinking and our behavior. Spiritual dis-ease is not something wrong with us. It wants to be an enhancement of our possibilities for being\, to give us new perspectives on who we are\, who we can be and how we work. \n*There is a suggested $20 contribution per seminar. Consistent attendance and participation is strongly encouraged. \nNote: no class on Sept 30 \nJim Roi is a philosopher and a healer specializing in the treatment of spiritual dis-ease. His stand that addiction provides a guiding metaphor for our time\, and that this is good news\, gives a unique and compelling focus to his work. His gift is to share the universal healing process in a way that is profound\, and effective.  His vision of spiritual recovery is compassionate\, exciting and contagious. \nJim has been a visible figure in the New York city self help\, transformation and recovery community since the early nineteen eighties when he was a popular seminar leader with EST: An Educational Organization. \nSince entering his own recovery from addiction in 1985 Jim has used his background of philosophy and transformation to articulate and share an enriched version of what the twelve-step approach can make possible. He is unique in his application of post-modern philosophy and deconstructive theory to the realm of addiction. He is well known for successfully applying the twelve-step model to financial issues\, especially compulsive under-earning.
URL:https://crsny.org/event/overcoming-spiritual-malady-ten-session-seminar-philosophy-spiritual-disease-jim-roi/2016-09-09/
LOCATION:CRS (Center for Remembering & Sharing)\, 41 E 11th St 11th Fl\, New York\, NY\, 10003\, United States
CATEGORIES:Guest Event
ATTACH;FMTTYPE=image/jpeg:https://crsny.org/wp-content/uploads/2016/09/Jim-Roi.jpeg
ORGANIZER;CN="Jim Roi":MAILTO:jimroi@aol.com
GEO:40.733158;-73.992729
X-APPLE-STRUCTURED-LOCATION;VALUE=URI;X-ADDRESS=CRS (Center for Remembering & Sharing) 41 E 11th St 11th Fl New York NY 10003 United States;X-APPLE-RADIUS=500;X-TITLE=41 E 11th St 11th Fl:geo:-73.992729,40.733158
END:VEVENT
END:VCALENDAR