BEGIN:VCALENDAR
VERSION:2.0
PRODID:-//CRS (Center for Remembering &amp; Sharing) - ECPv6.15.20//NONSGML v1.0//EN
CALSCALE:GREGORIAN
METHOD:PUBLISH
X-WR-CALNAME:CRS (Center for Remembering &amp; Sharing)
X-ORIGINAL-URL:https://crsny.org
X-WR-CALDESC:Events for CRS (Center for Remembering &amp; Sharing)
REFRESH-INTERVAL;VALUE=DURATION:PT1H
X-Robots-Tag:noindex
X-PUBLISHED-TTL:PT1H
BEGIN:VTIMEZONE
TZID:America/New_York
BEGIN:DAYLIGHT
TZOFFSETFROM:-0500
TZOFFSETTO:-0400
TZNAME:EDT
DTSTART:20170312T070000
END:DAYLIGHT
BEGIN:STANDARD
TZOFFSETFROM:-0400
TZOFFSETTO:-0500
TZNAME:EST
DTSTART:20171105T060000
END:STANDARD
BEGIN:DAYLIGHT
TZOFFSETFROM:-0500
TZOFFSETTO:-0400
TZNAME:EDT
DTSTART:20180311T070000
END:DAYLIGHT
BEGIN:STANDARD
TZOFFSETFROM:-0400
TZOFFSETTO:-0500
TZNAME:EST
DTSTART:20181104T060000
END:STANDARD
BEGIN:DAYLIGHT
TZOFFSETFROM:-0500
TZOFFSETTO:-0400
TZNAME:EDT
DTSTART:20190310T070000
END:DAYLIGHT
BEGIN:STANDARD
TZOFFSETFROM:-0400
TZOFFSETTO:-0500
TZNAME:EST
DTSTART:20191103T060000
END:STANDARD
END:VTIMEZONE
BEGIN:VEVENT
DTSTART;TZID=America/New_York:20180526T083000
DTEND;TZID=America/New_York:20180526T183000
DTSTAMP:20260420T233025
CREATED:20180405T174419Z
LAST-MODIFIED:20180405T174630Z
UID:29316-1527323400-1527359400@crsny.org
SUMMARY:Source Code Meditation’s Love & Liberation Retreat
DESCRIPTION:Join us for a 2-day\, live retreat with Dr. Michael Cotton and his team. Learn the revolutionary ‘brain first’ meditation technique. Energize your Higher Brain\, access enlightened states of consciousness\, fall in love with yourself and take that back to the world. \nThis retreat is based on the teachings of Source Code Meditation and is set within a collective framework designed to leverage the power and resonant potential of the group. A new ‘we space’ in consciousness will be liberated at this retreat and a new sacred community will emerge. \nYou will also get to experience Dr. Cotton’s teachings on the evolution of consciousness\, culture and the brain. Join us for enlightened dialogue and Q & A\, make new\, lifetime friends\, and have the opportunity to be part of this ongoing movement! \nAbout Your Host\nDr. Michael Cotton\, D.C.\, is a leading theorist in the evolution of consciousness\, culture\, and the brain. The creator of the Higher Brain Living® technique and Source Code Meditation™\, with more than 30 years’ experience in personal and cultural transformation\, he holds a doctorate in Chiropractic. He owns the Source Code Meditation World Headquarters and  lives in Chicago\, Illinois. \nMore About Source Code Meditation\nThe Love & Liberation Retreat is based on the teachings and techniques of Source Code Meditation (SCM) and Higher Brain Living® (HBL). \n\nThe revolutionary “brain first” techniques of SCM tune the brain to receive meditation\, enabling access to deep flow states\, transcendent states of consciousness\, and Higher Brain potential.  The human brain is like a flowing river of potential. Until now\, that river has been blocked\, barricaded\, and diverted by the primitive lower brain.\nThe lower brain hijacks our ability to experience deeper flow and higher transcendent states of consciousness. It also guards against the full expression of the passionate human heart. SCM reroutes that lower brain diversion\, allowing you to activate latent energy in your body\, awaken your Higher Brain\, enlighten your mind\, and set your heart on fireto create a new world.\nWith traditional meditation techniques\, it often takes decades of practice to confer significant changes in the mind and Higher Brain. Few of us make it to these rarefied states of mind due to the amount of time and intensity of focus needed. With our “brain first” technique\, you mobilize latent energy in the body and direct it to energize the Higher Brain before meditation begins. With the Higher Brain prepped and tuned\, meditation is efficiently received\, leading to quantum breakthroughs in deep flow states\, transcendent states of consciousness\, and Higher Brain potential.\n\nLearn more… \nLove & Liberation Retreat Schedule\nDAY ONE\n8:30AM – 10AM | Enlightened Dialogue with Dr. Cotton: \nWhat is the Higher Brain’s role in consciousness?\nUnderstanding the secret of all secrets—the energy of transformation\n10AM – 12:30PM | Liberate the energy of transformation in your body and awaken your Higher Brain: \nExperience the brain-based feedback response we call SalutoGenesis in your own body. The activation of SalutoGenesis leads to a thrive state in your physiology that prepares your brain for breakthrough meditation! \n12:30PM – 2PM | Lunch \n2PM – 3PM | Enlightened Dialogue with Dr. Cotton: \nWhat does enlightenment really mean?\nIs enlightenment possible?\nHow do I get there?\n3PM – 5PM | Learn to introduce Source Code Meditation WHILE your Higher Brain is activated: \nYou will be guided to liberate the energy of transformation in your body\, awaken your Higher Brain and THEN introduce Source Code Meditation to experience an awakening in your consciousness. \n5PM – 6PM | Live Q&A and Enlightenment Dialogue with Dr. Cotton: \nShare your experience in sacred community\nDo you have questions about Source Code Meditation\, enlightenment\, consciousness\, the brain or the science behind it all? Now is the time to ask!\n6PM – 6:30PM | Evening Close with SCM as a Group \nDAY TWO\n8:30AM – 10AM | Enlightened Dialogue with Dr. Cotton: \nOpening and synchronizing the Higher Brain and Higher Heart\nSoul Awakening\nTranscendent Awakening\nUnitary Awakening\n10AM – 11AM | Soul Awakening through SCM: \nDiscover your soul’s pure essence and inner truth by Introducing SCM’s Soul Awakening Meditation WHILE your Higher Brain is activated.\nLearn how to awaken the intuition and insight of the soul \n11AM – 12PM | Transcendent Awakening through SCM: \nDiscover an absolute state of transcendence beyond life and death and beyond all space and time by introducing the Transcendent Awakening Meditation WHILE your Higher Brain is activated.\nFind and know the place within you that can never be hurt\, is always free and feels only peace \n12PM – 2PM | Lunch & Community Time \n2PM – 3PM | Unitary Awakening through SCM: \nExperience this third enlightenment state that transcends and yet integrates with everything. An absolute state of oneness \n3PM – 4PM | Enlightened Dialogue with Michael: \nHow do you “wake up” so you can GROW?\nThe Architects of Epoch 6\nIntroduction to The 9 Summits of Transformation\nIntroduction to Unitary Evolutionary Enlightenment\nWhat comes next? \n4PM – 5PM | Group session\, opening the Higher Heart and synchronizing the Higher Brain in an amplified ‘field’ of subtle energy: \nEmergence of the sacred WE space \n5PM – 6:30PM | Optional sacred community time: \nStay immersed in the sacred energy and connect more deeply with your new family \n\n\n\n\n\n\n\n\n\n\n\n\n\n\n\n\n\n\n 
URL:https://crsny.org/event/source-code-meditations-love-liberation-retreat/2018-05-26/
LOCATION:CRS (Center for Remembering & Sharing)\, 41 E 11th St 11th Fl\, New York\, NY\, 10003\, United States
CATEGORIES:Guest Event
ATTACH;FMTTYPE=image/jpeg:https://crsny.org/wp-content/uploads/2018/04/180526-Love-and-Liberation-Retreat.jpg
GEO:40.733158;-73.992729
X-APPLE-STRUCTURED-LOCATION;VALUE=URI;X-ADDRESS=CRS (Center for Remembering & Sharing) 41 E 11th St 11th Fl New York NY 10003 United States;X-APPLE-RADIUS=500;X-TITLE=41 E 11th St 11th Fl:geo:-73.992729,40.733158
END:VEVENT
END:VCALENDAR