BEGIN:VCALENDAR
VERSION:2.0
PRODID:-//CRS (Center for Remembering &amp; Sharing) - ECPv6.15.20//NONSGML v1.0//EN
CALSCALE:GREGORIAN
METHOD:PUBLISH
X-WR-CALNAME:CRS (Center for Remembering &amp; Sharing)
X-ORIGINAL-URL:https://crsny.org
X-WR-CALDESC:Events for CRS (Center for Remembering &amp; Sharing)
REFRESH-INTERVAL;VALUE=DURATION:PT1H
X-Robots-Tag:noindex
X-PUBLISHED-TTL:PT1H
BEGIN:VTIMEZONE
TZID:America/New_York
BEGIN:DAYLIGHT
TZOFFSETFROM:-0500
TZOFFSETTO:-0400
TZNAME:EDT
DTSTART:20140309T070000
END:DAYLIGHT
BEGIN:STANDARD
TZOFFSETFROM:-0400
TZOFFSETTO:-0500
TZNAME:EST
DTSTART:20141102T060000
END:STANDARD
BEGIN:DAYLIGHT
TZOFFSETFROM:-0500
TZOFFSETTO:-0400
TZNAME:EDT
DTSTART:20150308T070000
END:DAYLIGHT
BEGIN:STANDARD
TZOFFSETFROM:-0400
TZOFFSETTO:-0500
TZNAME:EST
DTSTART:20151101T060000
END:STANDARD
BEGIN:DAYLIGHT
TZOFFSETFROM:-0500
TZOFFSETTO:-0400
TZNAME:EDT
DTSTART:20160313T070000
END:DAYLIGHT
BEGIN:STANDARD
TZOFFSETFROM:-0400
TZOFFSETTO:-0500
TZNAME:EST
DTSTART:20161106T060000
END:STANDARD
END:VTIMEZONE
BEGIN:VEVENT
DTSTART;TZID=America/New_York:20151015T143000
DTEND;TZID=America/New_York:20151015T163000
DTSTAMP:20260421T204345
CREATED:20151007T050340Z
LAST-MODIFIED:20151130T011643Z
UID:2847-1444919400-1444926600@crsny.org
SUMMARY:Stage for Change:  Psychodrama Meets Psychoanalysis
DESCRIPTION:Psychodrama is a fun effective group method that puts life and its challenges into action. Group members resolve difficulties creatively and spontaneously — more show than tell. The combination of Psychodrama and Psychoanalytic understanding creates a rich environment for developing insight\, growth and lasting change. \nThis work is for you if you are interested in: \n\na fun way to learn about yourself\nan opportunity to explore and understand your obstacles in life\, relationships or career\ndeveloping a deeper understanding of yourself in relationships\, with other people or with aspects of yourself\naddressing unresolved grief\nlearning how to join a group and allow a group to join you\nplaying out your feelings in a safe environment\n\nCall 917-566-9268 to RSVP.
URL:https://crsny.org/event/stage-for-change-psychodrama-meets-psychoanalysis-2015-10-15/2015-10-15/
LOCATION:CRS (Center for Remembering & Sharing)\, 41 E 11th St 11th Fl\, New York\, NY\, 10003\, United States
CATEGORIES:Guest Event
GEO:40.733158;-73.992729
X-APPLE-STRUCTURED-LOCATION;VALUE=URI;X-ADDRESS=CRS (Center for Remembering & Sharing) 41 E 11th St 11th Fl New York NY 10003 United States;X-APPLE-RADIUS=500;X-TITLE=41 E 11th St 11th Fl:geo:-73.992729,40.733158
END:VEVENT
END:VCALENDAR