BEGIN:VCALENDAR
VERSION:2.0
PRODID:-//CRS (Center for Remembering &amp; Sharing) - ECPv6.15.20//NONSGML v1.0//EN
CALSCALE:GREGORIAN
METHOD:PUBLISH
X-WR-CALNAME:CRS (Center for Remembering &amp; Sharing)
X-ORIGINAL-URL:https://crsny.org
X-WR-CALDESC:Events for CRS (Center for Remembering &amp; Sharing)
REFRESH-INTERVAL;VALUE=DURATION:PT1H
X-Robots-Tag:noindex
X-PUBLISHED-TTL:PT1H
BEGIN:VTIMEZONE
TZID:America/New_York
BEGIN:DAYLIGHT
TZOFFSETFROM:-0500
TZOFFSETTO:-0400
TZNAME:EDT
DTSTART:20160313T070000
END:DAYLIGHT
BEGIN:STANDARD
TZOFFSETFROM:-0400
TZOFFSETTO:-0500
TZNAME:EST
DTSTART:20161106T060000
END:STANDARD
BEGIN:DAYLIGHT
TZOFFSETFROM:-0500
TZOFFSETTO:-0400
TZNAME:EDT
DTSTART:20170312T070000
END:DAYLIGHT
BEGIN:STANDARD
TZOFFSETFROM:-0400
TZOFFSETTO:-0500
TZNAME:EST
DTSTART:20171105T060000
END:STANDARD
BEGIN:DAYLIGHT
TZOFFSETFROM:-0500
TZOFFSETTO:-0400
TZNAME:EDT
DTSTART:20180311T070000
END:DAYLIGHT
BEGIN:STANDARD
TZOFFSETFROM:-0400
TZOFFSETTO:-0500
TZNAME:EST
DTSTART:20181104T060000
END:STANDARD
END:VTIMEZONE
BEGIN:VEVENT
DTSTART;TZID=America/New_York:20170203T143000
DTEND;TZID=America/New_York:20170203T163000
DTSTAMP:20260425T135603
CREATED:20170111T064428Z
LAST-MODIFIED:20170203T034436Z
UID:26032-1486132200-1486139400@crsny.org
SUMMARY:CRS Healing Circle w/ Guest Irma StarSpirit Woman:  The Awakening Renewal of Sound
DESCRIPTION:We are honored to have NY Shamanic Circle Co-Founder Irma StarSpirit Woman joining us this month to lead our circle! \nWe will be using shamanic tools of sound to clear\, restore and activate the body\, mind and spirit. Learning how different instruments will activate different areas in the body. Discover the connection of the drum\, rattle and other instruments to awaken and stimulate your inner vibration. \nLet us shake\, rattle and roll into rhythm of cosmic vibration to help heal ourselves and all our relations.  Aho Mitakuye Oyasin…To All my relations \nThe fee is $20 until Feb 2 and $25 on Feb 3. \nIrma StarSpirit Woman is a Medicine Woman honoring the ways of the curanderas and medicine elders\, from her Maya & Taino Ancestral lineage.  She is a Shamanic & Reiki Master\, Teacher\, Certified Crystal Healer\, Sound Healer\, Toltec Dreamworker\, an Ordained Minister in the Order of Melchizedek\, Core member of the NY Shamanic Circle for 20 years and Co-Founder of the NY Shamanic Healing Circle. \nIrma StarSpirit Woman works with the “poderios”\, the elemental forces we need to keep an open channel of communication. Her style is accompanied by prayer work and traditional indigenous ceremonies to heal her community with heart. She can be reached at shamanicfirereiki.com.
URL:https://crsny.org/event/crs-healing-circle-w-guest-irma-starspirit-woman-awakening-renewal-sound/
LOCATION:CRS (Center for Remembering & Sharing)\, 41 E 11th St 11th Fl\, New York\, NY\, 10003\, United States
CATEGORIES:CRS Presents
ATTACH;FMTTYPE=image/jpeg:https://crsny.org/wp-content/uploads/2017/01/irma-drum.jpg
ORGANIZER;CN="CRS (Center for Remembering & Sharing)":MAILTO:info@crsny.org
GEO:40.733158;-73.992729
X-APPLE-STRUCTURED-LOCATION;VALUE=URI;X-ADDRESS=CRS (Center for Remembering & Sharing) 41 E 11th St 11th Fl New York NY 10003 United States;X-APPLE-RADIUS=500;X-TITLE=41 E 11th St 11th Fl:geo:-73.992729,40.733158
END:VEVENT
BEGIN:VEVENT
DTSTART;VALUE=DATE:20170203
DTEND;VALUE=DATE:20170205
DTSTAMP:20260425T135603
CREATED:20170110T024111Z
LAST-MODIFIED:20180824T200317Z
UID:25963-1486148400-1486234799@crsny.org
SUMMARY:Opening Reception for the Exhibition: Nagi — Photographs by Tomoko Iki
DESCRIPTION:CRS announces Nagi\, an exhibition of portraits of pregnant women by photographer Tomoko Iki. The exhibition will be on view from February 2 – April 5\, 2017. You are invited to attend an opening reception with the artist with performance by dancer Lale Sayoko\, one of Iki’s subjects\, and her young children on February 4 from 6 – 8 pm. \nIki greatly enjoys her work and approaches her subjects with joy and reverence. As is evident in her portraits\, Iki is able to bring her subjects to a place of stillness and self awareness\, enabling them to accept\, explore and share the divine feminine within themselves. Iki does not appear inside the photographs but her loving presence is implied in the soft\, radiant expressions of her subjects. We don’t usually think of calmness as energetic\, but through these serene portraits we can bear witness to the limitless power\, strength and presence of spirit preparing to give birth. You can see more of her work at http://www.frauphoto.com. \nTHE ARTIST’S CONCEPT \nMystical\, primitive energy exuded by pregnant woman reminds me of the feeling I get when surrounded and embraced by mother nature. \nEqually powerful and inspiring pure gratitude emerges\, and I feel a sense of hope and light. \nThrough mysterious pregnant women there is a feeling of layers of life history and life force. \nThe word “Nagi” has two meanings.\nIn an old Native American language it means “soul.”\nIn the old Japanese language it means “calm and silence.” \n______ \nARTIST STATEMENT \nI started doing photography and dance when I was a university student. Inspiration from dance influences my photography. Above all\, I am interested in femininity and the modern human’s relationship with nature. I have been taking woman’s portraits and photographs of nature since the beginning. \nIn 2011\, I was really impressed by the beauty and power of my pregnant friend when I took her portrait. That was the impetus for launching my own studio for pregnant women. Since then\, I have taken portraits of more than 1000 pregnant women. \nIn 2016\, I moved to NY\, and I am continuing to create photography incorporating the themes of femininity\, nature and dance. \n______ \nBio \nBorn in Japan (1984) \nGraduated from Department of Human Environment Design\,\nSchool of Life Studies\, Sugiyama Jogakuen University.\nActivities now based in New York. \n2016 received the KAWABA NEW NATURE PHOTO AWARD in the category of Art in Nature.\n2013\, launched her own studio “Photo Salon Frau” in Tokyo.\n2013\, solo exhibition “mother” held at the Rhythm Warp in Nagoya.\n2011\, exhibited at the group exhibition “foto-n 2nd exhibition” (X Gallery at the Aichi Prefectural Museum of Art).\n2011\, launched her own studio “Photo Salon Frau” in Nagoya.\n2010\, solo exhibition “stile brau” held at the Valentine Drive in Nagoya.\n2007\, exhibited at the group exhibition “Kodo (Pulse)” at the Plastic Factory in Nagoya.\n2007\, started activities as a freelance photographer.
URL:https://crsny.org/event/nagi/
LOCATION:CRS (Center for Remembering & Sharing)\, 41 E 11th St 11th Fl\, New York\, NY\, 10003\, United States
CATEGORIES:CRS Presents,Opening Reception
ATTACH;FMTTYPE=image/jpeg:https://crsny.org/wp-content/uploads/2017/01/170205-Tomoko-Iki.jpg
ORGANIZER;CN="CRS (Center for Remembering & Sharing)":MAILTO:info@crsny.org
GEO:40.733158;-73.992729
X-APPLE-STRUCTURED-LOCATION;VALUE=URI;X-ADDRESS=CRS (Center for Remembering & Sharing) 41 E 11th St 11th Fl New York NY 10003 United States;X-APPLE-RADIUS=500;X-TITLE=41 E 11th St 11th Fl:geo:-73.992729,40.733158
END:VEVENT
BEGIN:VEVENT
DTSTART;VALUE=DATE:20170203
DTEND;VALUE=DATE:20170205
DTSTAMP:20260425T135603
CREATED:20170301T213810Z
LAST-MODIFIED:20170301T213810Z
UID:26327-1486148400-1486234799@crsny.org
SUMMARY:Exhibition: Nagi — Photographs by Tomoko Iki
DESCRIPTION:CRS announces Nagi\, an exhibition of portraits of pregnant women by photographer Tomoko Iki. The exhibition will be on view from February 2 – April 5\, 2017. You are invited to attend an opening reception with the artist with performance by dancer Lale Sayoko\, one of Iki’s subjects\, and her family on February 4 from 6 – 8 pm. \nIki greatly enjoys her work and approaches her subjects with joy and reverence. As is evident in her portraits\, Iki is able to bring her subjects to a place of stillness and self awareness\, enabling them to accept\, explore and share the divine feminine within themselves. Iki does not appear inside the photographs but her loving presence is implied in the soft\, radiant expressions of her subjects. We don’t usually think of calmness as energetic\, but through these serene portraits we can bear witness to the limitless power\, strength and presence of spirit preparing to give birth. You can see more of her work at http://www.frauphoto.com. \nTHE ARTIST’S CONCEPT \nMystical\, primitive energy exuded by pregnant woman reminds me of the feeling I get when surrounded and embraced by mother nature. \nEqually powerful and inspiring pure gratitude emerges\, and I feel a sense of hope and light. \nThrough mysterious pregnant women there is a feeling of layers of life history and life force. \nThe word “Nagi” has two meanings.\nIn an old Native American language it means “soul.”\nIn the old Japanese language it means “calm and silence.” \n______ \nARTIST STATEMENT \nI started doing photography and dance when I was a university student. Inspiration from dance influences my photography. Above all\, I am interested in femininity and the modern human’s relationship with nature. I have been taking woman’s portraits and photographs of nature since the beginning. \nIn 2011\, I was really impressed by the beauty and power of my pregnant friend when I took her portrait. That was the impetus for launching my own studio for pregnant women. Since then\, I have taken portraits of more than 1000 pregnant women. \nIn 2016\, I moved to NY\, and I am continuing to create photography incorporating the themes of femininity\, nature and dance. \n______ \nBio \nBorn in Japan (1984) \nGraduated from Department of Human Environment Design\,\nSchool of Life Studies\, Sugiyama Jogakuen University.\nActivities now based in New York. \n2016 received the KAWABA NEW NATURE PHOTO AWARD in the category of Art in Nature.\n2013\, launched her own studio “Photo Salon Frau” in Tokyo.\n2013\, solo exhibition “mother” held at the Rhythm Warp in Nagoya.\n2011\, exhibited at the group exhibition “foto-n 2nd exhibition” (X Gallery at the Aichi Prefectural Museum of Art).\n2011\, launched her own studio “Photo Salon Frau” in Nagoya.\n2010\, solo exhibition “stile brau” held at the Valentine Drive in Nagoya.\n2007\, exhibited at the group exhibition “Kodo (Pulse)” at the Plastic Factory in Nagoya.\n2007\, started activities as a freelance photographer.
URL:https://crsny.org/event/exhibition-nagi-photographs-tomoko-iki/2017-02-04/
LOCATION:CRS (Center for Remembering & Sharing)\, 41 E 11th St 11th Fl\, New York\, NY\, 10003\, United States
CATEGORIES:CRS Presents,Exhibition
ATTACH;FMTTYPE=image/jpeg:https://crsny.org/wp-content/uploads/2017/01/170205-Tomoko-Iki.jpg
ORGANIZER;CN="CRS (Center for Remembering & Sharing)":MAILTO:info@crsny.org
GEO:40.733158;-73.992729
X-APPLE-STRUCTURED-LOCATION;VALUE=URI;X-ADDRESS=CRS (Center for Remembering & Sharing) 41 E 11th St 11th Fl New York NY 10003 United States;X-APPLE-RADIUS=500;X-TITLE=41 E 11th St 11th Fl:geo:-73.992729,40.733158
END:VEVENT
END:VCALENDAR