BEGIN:VCALENDAR
VERSION:2.0
PRODID:-//CRS (Center for Remembering &amp; Sharing) - ECPv6.15.20//NONSGML v1.0//EN
CALSCALE:GREGORIAN
METHOD:PUBLISH
X-ORIGINAL-URL:https://crsny.org
X-WR-CALDESC:Events for CRS (Center for Remembering &amp; Sharing)
REFRESH-INTERVAL;VALUE=DURATION:PT1H
X-Robots-Tag:noindex
X-PUBLISHED-TTL:PT1H
BEGIN:VTIMEZONE
TZID:America/New_York
BEGIN:DAYLIGHT
TZOFFSETFROM:-0500
TZOFFSETTO:-0400
TZNAME:EDT
DTSTART:20200308T070000
END:DAYLIGHT
BEGIN:STANDARD
TZOFFSETFROM:-0400
TZOFFSETTO:-0500
TZNAME:EST
DTSTART:20201101T060000
END:STANDARD
BEGIN:DAYLIGHT
TZOFFSETFROM:-0500
TZOFFSETTO:-0400
TZNAME:EDT
DTSTART:20210314T070000
END:DAYLIGHT
BEGIN:STANDARD
TZOFFSETFROM:-0400
TZOFFSETTO:-0500
TZNAME:EST
DTSTART:20211107T060000
END:STANDARD
BEGIN:DAYLIGHT
TZOFFSETFROM:-0500
TZOFFSETTO:-0400
TZNAME:EDT
DTSTART:20220313T070000
END:DAYLIGHT
BEGIN:STANDARD
TZOFFSETFROM:-0400
TZOFFSETTO:-0500
TZNAME:EST
DTSTART:20221106T060000
END:STANDARD
END:VTIMEZONE
BEGIN:VEVENT
DTSTART;VALUE=DATE:20211005
DTEND;VALUE=DATE:20211011
DTSTAMP:20260423T021143
CREATED:20210915T014356Z
LAST-MODIFIED:20210915T173636Z
UID:37789-1633392000-1633910399@crsny.org
SUMMARY:Ibiza Enlight Festival Online
DESCRIPTION:We want to invite you to participate in the Ibiza Enlight Festival Online\, an event where you can connect with the practical spirituality of A Course in Miracles\, from the 5th to the 10th October\, 2021! \nTotal Immersion into the teachings of A Course in Miracles!\nAnd it is fully translated Spanish-English-Spanish\, so no worries about the language barriers of other events. \nIn this Online Festival\, you will be able to live exceptional experiences\, learn\, and share the joy of The Festival that transformed the community of A Course in Miracles\, from the comfort of your own home. We have filmed 6 days of live workshops\, talks\, meditations and much more with teachers from 30 countries and participants from all over the world. We are making them available to you for the first time… entirely free of charge. \nWe have prepared 30 free videos which include participants and teachers such as Ana Carolina Figueredo (Argentina)\, Andreas Prohl (Germany)\, Anna Maria Palay (Spain)\, Cacaya (Colombia)\, Carolina Corada (Venezuela-Ibiza)\, Efrat Sar-Shalom (Israel)\, Hilda Nuñez (Spain)\, James Kelly (Scotland)\, Jordi Prunés (Spain)\, Kate Brennan (England)\, Michel Gaymard (Mexico)\, José Luis Molina (Spain)\, Sol Brizuela (Argentina)\, Steve Thompson (England)\, Ulyses Libre (Spain)\, Xavi de Melo (Spain)\, and Yasuko Kasaki (NYC/Japan)\, so that you can… \n* Learn the different ways of living A Course in Miracles and apply it to your everyday life.\n* Learn to let go of the judgmental mind\, forgive and live in true inner peace.\n* Experience your true Self through movement with IntroDanza.\n* Enjoy the Yoga of the Holy Instant classes.\n* Practice the rules for making decisions in peace.\n* Identify with each of the participants and let yourself be moved by them.\n* Discover that laughing and enjoying yourself is very spiritual. You will connect heart to heart. \nDon’t think twice! You have nothing to lose and a lot to gain. \nYour free ticket to this Online Festival is HERE. Just click on this link… We are waiting for you! \nhttps://yasuko–biz1.thrivecart.com/enlight-online-2021-en/
URL:https://crsny.org/event/ibiza-enlight-festival-online/
LOCATION:Tokyo
CATEGORIES:ACIM-Related Event
ATTACH;FMTTYPE=image/jpeg:https://crsny.org/wp-content/uploads/2021/09/yasuko-kasaki-square.jpg
END:VEVENT
END:VCALENDAR