BEGIN:VCALENDAR
VERSION:2.0
PRODID:-//CRS (Center for Remembering &amp; Sharing) - ECPv6.15.20//NONSGML v1.0//EN
CALSCALE:GREGORIAN
METHOD:PUBLISH
X-ORIGINAL-URL:https://crsny.org
X-WR-CALDESC:Events for CRS (Center for Remembering &amp; Sharing)
REFRESH-INTERVAL;VALUE=DURATION:PT1H
X-Robots-Tag:noindex
X-PUBLISHED-TTL:PT1H
BEGIN:VTIMEZONE
TZID:America/New_York
BEGIN:DAYLIGHT
TZOFFSETFROM:-0500
TZOFFSETTO:-0400
TZNAME:EDT
DTSTART:20240310T070000
END:DAYLIGHT
BEGIN:STANDARD
TZOFFSETFROM:-0400
TZOFFSETTO:-0500
TZNAME:EST
DTSTART:20241103T060000
END:STANDARD
BEGIN:DAYLIGHT
TZOFFSETFROM:-0500
TZOFFSETTO:-0400
TZNAME:EDT
DTSTART:20250309T070000
END:DAYLIGHT
BEGIN:STANDARD
TZOFFSETFROM:-0400
TZOFFSETTO:-0500
TZNAME:EST
DTSTART:20251102T060000
END:STANDARD
BEGIN:DAYLIGHT
TZOFFSETFROM:-0500
TZOFFSETTO:-0400
TZNAME:EDT
DTSTART:20260308T070000
END:DAYLIGHT
BEGIN:STANDARD
TZOFFSETFROM:-0400
TZOFFSETTO:-0500
TZNAME:EST
DTSTART:20261101T060000
END:STANDARD
END:VTIMEZONE
BEGIN:VEVENT
DTSTART;VALUE=DATE:20250721
DTEND;VALUE=DATE:20250727
DTSTAMP:20260422T050335
CREATED:20250619T204004Z
LAST-MODIFIED:20250719T052433Z
UID:42269-1753056000-1753574399@crsny.org
SUMMARY:LIFE IS ART IS MOTHERHOOD IS ART Exhibition
DESCRIPTION:CRS (Center for Remembering & Sharing) presents LIFE IS ART IS MOTHERHOOD IS ART\, an exhibition of five artists who are mothers — Daniela Kostova (Bulgaria)\, Aline Müller (Brazil)\, Quynh “Alex” Nguyễn (Vietnam)\, Katie Heller Saltoun (USA)\, and Satomi Shirai (Japan). Curated by CRS co-founder Christopher Pelham\, the exhibition will be on view at Tenri Cultural Institute of New York from July 21 – 26\, 2025.  \nThis exhibition explores the profound interconnection between motherhood and art. These photographs and 2D works depict experiences and challenges—limited time\, institutional exclusion\, competing responsibilities\, societal expectations—that mother artists face every day\, ultimately reframing motherhood as an experience that requires constant creativity and is a radical\, generative force within artistic life. \nArt making and mothering are both rooted in nonjudgmental attention\, intuitive responsiveness\, and unconditional love. Both require the practitioner to notice what others may overlook and respond creatively with care. This exhibition\, along with the series of Mother Artist Salons being held in conjunction\, celebrates the creative labor of mothers and mother artists\, envisioning a culture that embraces caregiving\, inspiration\, and interdependence as central to both life and art. \nEXHIBITION HOURS\nMonday\, July 21 – July 26\, 2025 (closed July 25)\nMon – Thu 12 – 6 pm\, Sat 12 – 3 pm \nTENRI GALLERY LOCATION\nTenri Cultural Institute of New York\, 43A W 13th St\, New York\, NY 10011 \nIn addition to the above gallery hours\, the exhibition will be on view during several receptions and salons being held in conjunction with the exhibition. These are all free events and no RSVP is required. \nJuly 21 7 pm\nOpening Reception & Artist Salon featuring live music by mother artist Eunbi Kim + Q&A \nJuly 23 7pm\nThis Is a Movement Artist Salon featuring live music by mother artists Goussy Celestin and Amma Whatt + Q+A with artists and Niama Safia Sandy\, co-founder\, This Is a Movement \nJuly 24 7 pm\nArtist Salon featuring live music by mother artists Layale Chaker (violin) and Maeve Gilchrist (harp) + Q&A \nJuly 26 3 pm doors / 3:30 pm program starts\nClosing Reception & Artist Salon featuring live music by Sita Chay (violin) and Rema Hasumi (keyboard) + Q&A with the exhibition artists + talk by mother artist and author / peacemaker / philanthropist Le Ly Hayslip on Lessons Not Learned from the American War in Vietnam \n“Being an artist is to experience a vigorous\, experimental life of the mind and of the senses. Parenthood is another enriching experience: primal\, haptic and life-affirming. Why are the two still seen as incompatible?” — Jeffrey Boloten and Juliet Hacking\, Forward to How Not to Exclude Artist Mothers (and other parents) \nHow often do we ask a man how he balances work and parenting responsibilities? How frequently do we assume that a mother has no time for making art or that motherhood and child-raising are not only not creative but less worthy subjects for art? Of course\, it’s hardly shocking to announce that pregnancy and childcare require time and energy and that women supply the bulk of it. But this alone does not explain the relative paucity of mothers and women in general represented in galleries and museums. You might be surprised to learn that more women than men graduate from art schools today. We hope you will also be excited to learn that many obstacles facing female-identifying artists can be remedied. \nWhile the asymmetry between parenthood and the world of work is an issue for parents in any profession\, the art world – with its informal\, often temporary forms of relations – can be a particularly precarious environment in which to make one’s living. Artists rarely receive contracts of employment nor benefits such as maternity leave\, pay rises and pensions. Opportunities such as exhibitions and artist residencies come rarely\, and even once in a lifetime. Does one have to choose between creativity and family? \n— Jeffrey Boloten and Juliet Hacking\, Forward to How Not to Exclude Artist Mothers (and other parents) \nDespite societal demands\, stigmas\, and limitations that restrict a mother’s creative expression in the public realm\, mothers nevertheless exercise their creative faculties constantly. Just as creating a compelling work of art starts with seeing without judgment what others have overlooked and channeling one’s creative response into form\, nurturing a child requires seeing the child as he/she/they are and responding authentically and imaginatively. Both are intuitive processes of receiving and giving. Both are creative exercises of unconditional love. \n“…Motherhood and artistic practice have to be mutually enriching…. …Little does society know that these things actually can work really well together.” — Catherine Rickets\, from Artist/Mother Podcast: 160: The World Needs Art that Only Mothers Can Make with Catherine Ricketts\, Nov 4\, 2024 \nWe aim to bring greater visibility to their inspiring art and life-making work\, as well as to the creative and life-affirming contributions of mothers who are not professional artists. The exhibition will next be on view at Gallery Maronie in Kyoto\, Japan\, during Kyotographie from April 13 to May 10\, 2026\, and then at Le Deco Gallery in Tokyo\, Japan from May 18 – 24\, 2026. \nABOUT THE ARTISTS \nStuck by Daniela Kostova \nDaniela Kostova is an interdisciplinary artist whose work spans photography\, installation\, video\, and performance. She explores themes of geography\, cultural identity\, and the complexities of translation and communication across borders. Her projects have been exhibited internationally at institutions including the Queens Museum of Art\, Kunsthalle Wien\, Centre d’Art Contemporain (Geneva)\, and Kunsthalle Fridericianum (Kassel)\, among others. In 2019\, she created one of Europe’s largest public art installations\, Future Dreaming\, covering Vienna’s Ringturm building. \nKostova has received numerous awards and fellowships\, including the Unlimited Award for Contemporary Bulgarian Art and residencies at A.I.R. Gallery (NYC)\, ZK/U Berlin\, and ArtsLink at the Cleveland Institute of Art. She has also contributed as a curator\, notably leading the BioArt Initiative at RPI\, where she taught digital imaging. Her work has been featured in major publications such as The New York Times\, Brooklyn Rail\, and Art in America. Now based in New York City\, she has served as Director of Curatorial Projects at Radiator Gallery\, Artist Mentor at NYFA’s Immigrant Artist Program and Board Member of CEC Artslink. \nhttps://danielakostova.com \nPhoto by Aline Müller \nPhotographer Aline Müller\, born in the Brazilian Amazon and now working between Rio and New York\, brings an elemental understanding of nature’s power to her intimate portraits of women. In her series curated for Life is Art Motherhood is Art\, she captures mothers at different stages of their journey through evocative\, almost surreal photographs that reveal the mystical within the everyday of a mother. \nMüller’s mothers emerge water-soaked from rivers\, beaches\, and showers with goddess-like splendor. They inhabit moments of joyous presence captured in delicate close-ups that refuse to hide or pose\, but rather document dreamlike moments of maternal reality. \nWith her generous and almost metaphysical gaze\, Aline has the uncanny ability to depict what photography often editorializes out of women’s lives: fluids\, curves\, small gestures\, and all that seems small and menial in life\, yet speaks volumes to the internal world of women. \nhttps://www.alinemuller.com \n  \n  \nPhoto by Alex Nguyễn \nQuỳnh “Alex” Nguyễn is a writer\, photographer\, and independent cultural practitioner based in Central Vietnam. Her interdisciplinary approach\, spanning journalism\, interviews\, photography\, artistic programs\, and nurturing of daily life itself\, stems from a desire to explore alternative narratives rather than accepting the mainstream\, deemed self-evident. She believes that the interpretations we hear profoundly shape our beliefs and responses to life’s issues. Furthermore\, the challenges faced by modern society are inherently interconnected as consequences of the many problems layered atop one another. Through flexible artistic forms\, she seeks to expand the possibilities of alternative narratives\, guiding those around her and her readers to explore new dimensions of contemporary issues. \nhttps://alexnguyen.contently.com \n\n  \n  \n\nStudio Interruptions by Katie Heller Saltoun \nKatie Heller Saltoun is a visual artist based in DUMBO\, Brooklyn\, New York. Her work primarily utilizes oil paint\, ink\, photographic collages\, and woodcut printing to explore the multifaceted experiences of motherhood and caregiving. Saltoun captures the humor\, frustration\, monotony\, and profound love inherent in caregiving\, drawing inspiration from her own life and the diverse narratives of mothers and caretakers she encounters. Her compositions often depict dynamic scenes of energy and chaos\, as well as repetitive imagery such as refrigerator shelves\, spice racks\, and rows of snacks\, reflecting the repetitive yet vital tasks of domestic life. \nSaltoun holds a BFA from the University of Michigan\, an MA from Columbia University\, and an MFA from Pratt Institute. Her recent exhibition\, “Bifocal: Motherhood and Creativity\,” was held at the Elza Kayal Gallery in Tribeca\, New York. This multidisciplinary show explored the intricate interplay between creativity and motherhood\, highlighting the often-overlooked experiences of artists who navigate both roles. Additionally\, her work was featured in The American Scholar magazine in an article titled “Tenderness and Grit.” \nSaltoun continues to create and exhibit work that resonates with audiences\, offering a profound and authentic portrayal of the complexities inherent in caregiving and domestic life. For more information and to view her portfolio\, please visit her website at www.katiehellersaltoun.com. \nhttps://www.katiehellersaltoun.com/ \nPhoto by Satomi Shirai \nSatomi Shirai playfully explores themes of cultural identity\, feminism\, motherhood\, and the evolving meaning of home\, both in the context of migration and as a universal psycho-spiritual experience. Her photographs\, often set in domestic spaces\, reveal the quiet tensions between order and chaos\, belonging and estrangement\, the visible and the unseen. \nShirai’s work has been exhibited widely\, including at the Tokyo Metropolitan Museum of Photography\, the National Portrait Gallery in London\, and the Smithsonian National Portrait Gallery in Washington\, D.C. Her photographs are held in the collections of the Tokyo Metropolitan Museum of Photography and the Kiyosato Museum of Photographic Arts (K’MoPA). \nAfter earning a Full-Time Certificate from the International Center of Photography in 2007 and an MFA from Hunter College (CUNY) in 2010\, Shirai lived and worked in New York City for over a decade. In 2015\, she returned to Japan to raise her daughter and now lives and works in Tokyo and Chiba Prefecture. Though she has exhibited less frequently since her return\, she continues to create new work\, often in collaboration with her daughter. \nhttps://satomishirai.com
URL:https://crsny.org/event/life-is-art-is-motherhood-is-art-exhibition/
LOCATION:Tenri Cultural Institute\, 43A W 13th St\, New York\, 10011
CATEGORIES:CRS Presents,Exhibition
ATTACH;FMTTYPE=image/jpeg:https://crsny.org/wp-content/uploads/2025/06/Eventbrite-banner-3-1-scaled.jpg
ORGANIZER;CN="CRS (Center for Remembering & Sharing)":MAILTO:info@crsny.org
GEO:40.7363801;-73.9960877
X-APPLE-STRUCTURED-LOCATION;VALUE=URI;X-ADDRESS=Tenri Cultural Institute 43A W 13th St New York 10011;X-APPLE-RADIUS=500;X-TITLE=43A W 13th St:geo:-73.9960877,40.7363801
END:VEVENT
BEGIN:VEVENT
DTSTART;TZID=America/New_York:20250721T190000
DTEND;TZID=America/New_York:20250721T210000
DTSTAMP:20260422T050335
CREATED:20250619T230446Z
LAST-MODIFIED:20250712T035721Z
UID:42312-1753124400-1753131600@crsny.org
SUMMARY:LIFE IS ART IS MOTHERHOOD IS ART: Opening Reception & Mother Artist Salon with pianist Eunbi Kim
DESCRIPTION:Photo: a still from ‘Saturn Years’ video by new media artist Xuan \nPlease join us on July 21\, 2025\, from 7 – 9 pm for the Opening Reception for the exhibition LIFE IS ART IS MOTHERHOOD IS ART. At the reception\, mother artist Eunbi Kim will give a solo piano performance and share musings on the transformative connections between motherhood\, music\, and identity. Kim and her husband just welcomed their second child. \nThe event will take place at Tenri Cultural Institute of New York. Admission is free and no RSVP is required. Families with children are welcome! \nThe event is the first of a series of Mother Artist Salons being held in conjunction with the exhibition LIFE IS ART IS MOTHERHOOD IS ART. Check the exhibition announcement or CRS calendar for details. \nABOUT THE ARTIST AND PROGRAM \nPianist Eunbi Kim explores childhood\, family\, and identity through multimedia programs that combine music\, visual projections\, and spoken text. She creates sonic memoirs that invite audiences to meditate on their past\, present\, and future selves and how they all coexist. In “it feels like a dream\,” created shortly after becoming a new mother\, she asks the audience\, “What are the dreams we carry? What are the dreams we pass on?” Working in close collaboration with cutting-edge composers and artists of different mediums\, she creates projects that offer audiences the opportunity to tap into their unconscious pool of memories\, dreams\, and desires. \nhttps://www.eunbikimmusic.com \nABOUT THE EXHIBITION \nLIFE IS ART IS MOTHERHOOD IS ART is an exhibition of five artists who are mothers of different generations — Daniela Kostova (Bulgaria)\, Aline Müller (Brazil)\, Quynh “Alex” Nguyễn (Vietnam)\, Katie Heller Saltoun (USA)\, and Satomi Shirai (Japan). Curated by CRS co-founder Christopher Pelham\, the exhibition will be on view at Tenri Cultural Institute of New York from July 21 – 26\, 2025. \n“Being an artist is to experience a vigorous\, experimental life of the mind and of the senses. Parenthood is another enriching experience: primal\, haptic and life-affirming. Why are the two still seen as incompatible?” — Jeffrey Boloten and Juliet Hacking\, Forward to How Not to Exclude Artist Mothers (and other parents) \nThis exhibition highlights the inspiring works being created worldwide by mother artists and examines the multifaceted relationship between motherhood and art-making. Through their diverse photography and 2D works\, we invite you to consider the challenges that working mother artists face and reflect on motherhood and child-rearing as fundamentally creative acts\, inseparably intertwined with art-making\, deserving of our loving attention\, respect\, and support. Learn more… \nEXHIBITION HOURS\nMonday\, July 21 – July 26\, 2025 (closed July 25)\nMon – Thu 12 – 6 pm\, Sat 12 – 3 pm \nTENRI GALLERY LOCATION\nTenri Cultural Institute of New York\, 43A W 13th St\, New York\, NY 10011\n212.645.2800
URL:https://crsny.org/event/250721/
LOCATION:Tenri Cultural Institute\, 43A W 13th St\, New York\, 10011
CATEGORIES:Concert,CRS Presents,Opening Reception
ATTACH;FMTTYPE=image/jpeg:https://crsny.org/wp-content/uploads/2025/06/Eunbi-Kim-collage-scaled.jpg
ORGANIZER;CN="CRS (Center for Remembering & Sharing)":MAILTO:info@crsny.org
GEO:40.7363801;-73.9960877
X-APPLE-STRUCTURED-LOCATION;VALUE=URI;X-ADDRESS=Tenri Cultural Institute 43A W 13th St New York 10011;X-APPLE-RADIUS=500;X-TITLE=43A W 13th St:geo:-73.9960877,40.7363801
END:VEVENT
END:VCALENDAR