BEGIN:VCALENDAR
VERSION:2.0
PRODID:-//CRS (Center for Remembering &amp; Sharing) - ECPv6.15.20//NONSGML v1.0//EN
CALSCALE:GREGORIAN
METHOD:PUBLISH
X-ORIGINAL-URL:https://crsny.org
X-WR-CALDESC:Events for CRS (Center for Remembering &amp; Sharing)
REFRESH-INTERVAL;VALUE=DURATION:PT1H
X-Robots-Tag:noindex
X-PUBLISHED-TTL:PT1H
BEGIN:VTIMEZONE
TZID:America/New_York
BEGIN:DAYLIGHT
TZOFFSETFROM:-0500
TZOFFSETTO:-0400
TZNAME:EDT
DTSTART:20190310T070000
END:DAYLIGHT
BEGIN:STANDARD
TZOFFSETFROM:-0400
TZOFFSETTO:-0500
TZNAME:EST
DTSTART:20191103T060000
END:STANDARD
BEGIN:DAYLIGHT
TZOFFSETFROM:-0500
TZOFFSETTO:-0400
TZNAME:EDT
DTSTART:20200308T070000
END:DAYLIGHT
BEGIN:STANDARD
TZOFFSETFROM:-0400
TZOFFSETTO:-0500
TZNAME:EST
DTSTART:20201101T060000
END:STANDARD
BEGIN:DAYLIGHT
TZOFFSETFROM:-0500
TZOFFSETTO:-0400
TZNAME:EDT
DTSTART:20210314T070000
END:DAYLIGHT
BEGIN:STANDARD
TZOFFSETFROM:-0400
TZOFFSETTO:-0500
TZNAME:EST
DTSTART:20211107T060000
END:STANDARD
END:VTIMEZONE
BEGIN:VEVENT
DTSTART;TZID=America/New_York:20201231T180000
DTEND;TZID=America/New_York:20201231T183000
DTSTAMP:20260424T195707
CREATED:20201216T194009Z
LAST-MODIFIED:20201216T194010Z
UID:37708-1609437600-1609439400@crsny.org
SUMMARY:Free New Year's Eve Guided Meditation with Yasuko
DESCRIPTION:Since CRS opened in 2004 we have never missed offering a New Year’s Eve meditation. A lot of our friends gather at our studio\, sit still\, go inward\, clear their minds\, heal the year and prepare for the shining new year. \nSo\, of course\, we will again hold this precious gathering this year. Online. \nWe need to love and heal a lot of tears especially this year. And we can do it by bringing our minds into one.\nPlease join us. \nNew York time : Dec.31.2020 starting at 6:00PM. (About 30 min.) \nZoom link:\nhttps://us02web.zoom.us/j/82672443490
URL:https://crsny.org/event/free-new-years-eve-guided-meditation-with-yasuko-3/
LOCATION:CRS (Center for Remembering & Sharing)\, 41 E 11th St 11th Fl\, New York\, NY\, 10003\, United States
CATEGORIES:CRS Presents
ATTACH;FMTTYPE=image/jpeg:https://crsny.org/wp-content/uploads/2019/12/181231-NYE-meditation-candle.jpg
ORGANIZER;CN="CRS (Center for Remembering & Sharing)":MAILTO:info@crsny.org
GEO:40.733158;-73.992729
X-APPLE-STRUCTURED-LOCATION;VALUE=URI;X-ADDRESS=CRS (Center for Remembering & Sharing) 41 E 11th St 11th Fl New York NY 10003 United States;X-APPLE-RADIUS=500;X-TITLE=41 E 11th St 11th Fl:geo:-73.992729,40.733158
END:VEVENT
END:VCALENDAR