BEGIN:VCALENDAR
VERSION:2.0
PRODID:-//CRS (Center for Remembering &amp; Sharing) - ECPv6.15.20//NONSGML v1.0//EN
CALSCALE:GREGORIAN
METHOD:PUBLISH
X-ORIGINAL-URL:https://crsny.org
X-WR-CALDESC:Events for CRS (Center for Remembering &amp; Sharing)
REFRESH-INTERVAL;VALUE=DURATION:PT1H
X-Robots-Tag:noindex
X-PUBLISHED-TTL:PT1H
BEGIN:VTIMEZONE
TZID:America/New_York
BEGIN:DAYLIGHT
TZOFFSETFROM:-0500
TZOFFSETTO:-0400
TZNAME:EDT
DTSTART:20180311T070000
END:DAYLIGHT
BEGIN:STANDARD
TZOFFSETFROM:-0400
TZOFFSETTO:-0500
TZNAME:EST
DTSTART:20181104T060000
END:STANDARD
BEGIN:DAYLIGHT
TZOFFSETFROM:-0500
TZOFFSETTO:-0400
TZNAME:EDT
DTSTART:20190310T070000
END:DAYLIGHT
BEGIN:STANDARD
TZOFFSETFROM:-0400
TZOFFSETTO:-0500
TZNAME:EST
DTSTART:20191103T060000
END:STANDARD
BEGIN:DAYLIGHT
TZOFFSETFROM:-0500
TZOFFSETTO:-0400
TZNAME:EDT
DTSTART:20200308T070000
END:DAYLIGHT
BEGIN:STANDARD
TZOFFSETFROM:-0400
TZOFFSETTO:-0500
TZNAME:EST
DTSTART:20201101T060000
END:STANDARD
END:VTIMEZONE
BEGIN:VEVENT
DTSTART;TZID=America/New_York:20190904T180000
DTEND;TZID=America/New_York:20190904T190000
DTSTAMP:20260420T214053
CREATED:20190904T004628Z
LAST-MODIFIED:20190904T004628Z
UID:35788-1567620000-1567623600@crsny.org
SUMMARY:Meditation & Spiritual Reading Practice Based on ACIM
DESCRIPTION:Let’s practice dropping our thoughts\, opening to love’s presence\, and allowing ourselves to melt into one another\, being present with what is. In this eternity we can experience love’s presence in new forms\, giving us new inspiration and direction. \nIt is OK to attend without having studied A Course in Miracles\, but we highly encourage you to begin reading the Text and\, especially\, to begin the workbook lessons if you feel called to do so! Receiving guidance occurs when you cultivate willingness to believe in it and receive it and lay aside resistance. The purpose of ACIM is to help you train your mind to do just that. \nStill\, even without training\, anyone can potentially benefit from meditation practices. At the very least\, you might calm down and have a good time\, and students of all experience levels and backgrounds are welcome! \nInstructor Christopher Pelham is the Director and co-founder of CRS (Center for Remembering & Sharing). He teaches A Course in Miracles and A Course of Love\, offer Spiritual Healing and counseling\, and organizes Sufi events and Healing Circles with Sufi Dance Artist Lâle Sayoko. While ACIM is the foundation of his work\, he also draws on his rich experiences with improvisational theater and contemporary shamanism to help people remember who they really are: perfect and limitless expressions of love.
URL:https://crsny.org/event/meditation-spiritual-reading-practice-based-on-acim/2019-09-04/
LOCATION:CRS (Center for Remembering & Sharing)\, 41 E 11th St 11th Fl\, New York\, NY\, 10003\, United States
CATEGORIES:ACIM-Related Event,CRS Presents
ATTACH;FMTTYPE=image/jpeg:https://crsny.org/wp-content/uploads/2019/09/highres_483400958.jpg
ORGANIZER;CN="CRS (Center for Remembering & Sharing)":MAILTO:info@crsny.org
GEO:40.733158;-73.992729
X-APPLE-STRUCTURED-LOCATION;VALUE=URI;X-ADDRESS=CRS (Center for Remembering & Sharing) 41 E 11th St 11th Fl New York NY 10003 United States;X-APPLE-RADIUS=500;X-TITLE=41 E 11th St 11th Fl:geo:-73.992729,40.733158
END:VEVENT
BEGIN:VEVENT
DTSTART;TZID=America/New_York:20190905T190000
DTEND;TZID=America/New_York:20190905T203000
DTSTAMP:20260420T214053
CREATED:20190103T064130Z
LAST-MODIFIED:20190805T003413Z
UID:33509-1567710000-1567715400@crsny.org
SUMMARY:Sufi Dance Class with Paola Garcia
DESCRIPTION:Learn the ancient practice of meditative whirling known as Sufi dance or Sema (Sama in Iranian). You will learn the techniques of whirling\, but Sema is not about reproducing a certain form or aesthetic. Rather\, the technique serves as a vehicle for inner journeying. Sema means spiritual listening. Together we’ll create a sacred space in which we can safely listen to and share our true selves and experience oneness with the Divine. \nEach class consists of some explanation of the theory and technique\, exercises\, practice whirling\, and sharing and discussion of what you experienced and felt. \nPlease wear comfortable clothing like yoga pants or leggings and T shirts ( no tube top or short pants/skirts) and solid colors are recommended\, avoiding prints and shiny material which might distract the eye while whirling\, and wear socks or soft soled shoes. If you have a whirling skirt\, please feel free to bring it. \nAvoid eating a large meal for two hours prior to class. \nWhirling commonly induces dizziness or nausea. Over time\, through whirling\, we learn to trust ourselves to go off balance\, to be dizzy\, to surrender control. We empty our minds of all thoughts of the individual self as we give ourselves over to prayer and connect with a greater power\, the still center within\, around which we turn. Into this emptiness floods a divine fullness\, which sometimes gives rise to a state known as “mystical intoxication\,” a reflection of knowing and experiencing that you and I and the Divine are One. \nClasses are $25 ($20 with advanced registration). \nAbout Sufi Dance Instructor Paola García \nSufi Dance artist Rana Gorgani awarded Paola the International Sufi Dance Certification Of Cid UNESCO\, granting her authority to teach Gorgani’s method of Sufi dance training. Paola holds a Master’s Degree in Islamic Studies from Columbia University. She is a writer\, Middle Eastern Studies researcher\, translator and student of Sufism. \n 
URL:https://crsny.org/event/sufi-dance-class-with-lale-sayoko-2019-04-04-2019-09-05/
LOCATION:CRS (Center for Remembering & Sharing)\, 41 E 11th St 11th Fl\, New York\, NY\, 10003\, United States
CATEGORIES:CRS Presents,sufi
ATTACH;FMTTYPE=image/jpeg:https://crsny.org/wp-content/uploads/2018/12/image3.jpeg
ORGANIZER;CN="CRS (Center for Remembering & Sharing)":MAILTO:info@crsny.org
GEO:40.733158;-73.992729
X-APPLE-STRUCTURED-LOCATION;VALUE=URI;X-ADDRESS=CRS (Center for Remembering & Sharing) 41 E 11th St 11th Fl New York NY 10003 United States;X-APPLE-RADIUS=500;X-TITLE=41 E 11th St 11th Fl:geo:-73.992729,40.733158
END:VEVENT
BEGIN:VEVENT
DTSTART;TZID=America/New_York:20190907T130000
DTEND;TZID=America/New_York:20190907T170000
DTSTAMP:20260420T214053
CREATED:20190728T171521Z
LAST-MODIFIED:20190728T171752Z
UID:35645-1567861200-1567875600@crsny.org
SUMMARY:Native American Drum Making Workshop
DESCRIPTION:We are delighted to announce that ONACNY is offering a Native American Drum Making Workshop to our community in September 2019. We are honored to invite Squamish native elder Tsawaysia Spukwus (aka. Alice Guss) from British Columbia\, Canada to lead the workshop. \nAbout Native American Drum-Making & Birthing: \n“Making your own drum begins a journey – as you will transform Mother Nature’s Gift into a musical instrument.” \n“Drums have been used for thousands of years and by many cultures. The drum beat works as a conduit connecting the resonance sound of the human heartbeat and the rhythm of the heartbeat of Mother Earth. When the drum dries\, we keep the heartbeat alive by beating the drum. Our culture teaches us that the more drums played\, the more harmony\, connection\, and understanding we have of one mind\, one body and one spirit.” ~ Tsawaysia Spukwas \nWorkshop Outline: \nFirst Day ~ Making the Sacred Drum: \n\nSacred Circle Introduction\nCeremonial Welcoming Song\nPassing of the Eagle Feather\nMaterials & Instruction\n   Native Songs & Storytelling\, Legends\, Teachings of making a drum prior to European contact\n\nDeadline for Registration & Payment:  August 20th\, 2019. To register or for any questions\, please reply to this invitation\, email: onacny@gmail.com. Further details are below. \nSecond Day ~ Birthing the Sacred Drum by the water: \n\nBirthing your Drum & Closing Ceremony with Native American medicine songs\n\n \nAbout the instructor:  \nTsawaysia Spukwus (aka. Alice Guss) is a Squamish Nation member. Her father\, Pekultn was a Hereditary Chief from North Vancouver. Her mother Gwen Harry is 88 years old and still very active in her community. Her family is strong\, committed and active in the preservation of their culture and heritage. With over 20 years working with First Nation’s communities as a Director of Education and 15 years delivering Sacred Drum Making workshops\, Tsawaysia is masterful at bringing innovative learning opportunities to all people through workshops\, drumming\, singing\, dancing and storytelling. She is an avid participant in healing Tribal Journeys and more recently co-produced a number of documentaries including ‘Squamish Nation: Stories from the Heart’\, ‘Tribal Journeys’\, and ‘Riding with the First Nation’s Snowboard Team’. \n  \nThe Oklevueha Native American Church of New York (ONACNY)  community welcomes you with open arms and heart on your path to experiencing and exploring your inner Universe and feeling abundantly empowered through your choices to living a thriving\, vibrant\, loving\, and soul satisfying life. We are a community dedicated to sharing urban shamanic ways with earth-based medicine ceremonies and workshops to connect\, evolve\, and transform into who we are becoming. Let us support your journey to unfold the gifts of who you are which are waiting for you. \nTIMES & LOCATIONS: \nDrum Making Workshop\nSeptember 7th\, 2019 (Saturday)\, 1pm to 5pm  (please arrive on time!)\nlocation:\nCenter for Remembering & Sharing (CRS)\n123 4th Avenue\, 2nd floor\, New York\, NY 10003 \nDrum Birthing Circle\nSeptember 8th\, 2019 (Sunday)\, 2pm to 4pm\nDrum Birthing Circle outdoor location:\nRobert F Wagner Jr. Park ~ 20 Battery Place\, New York\, NY 10280\nThe park is located at the southern tip of Battery Park City Greenway\, between the ‘Museum of Jewish Heritage’ and ‘Gigno’ restaurant\, downtown Manhattan. We will meet at the open lawn on the water front.\n*P.S. in case of rain or weather conditions\, we will move our gathering indoors. Location to be determined & announced. \nWorkshop fees (Drum materials included): \n14” Drums – $245 \n16” Drums – $265 \n18” Drums – $285 \nDrum Raw Materials include:  14\, 16\,or 18 inch round (type) drum hoop made of cedar wood\, single raw hide drum head (options of deer or elk hide)\, lacing\, and drum stick. \nPayment methods:  \n\nPaypal (we will send you a link for payment)\nCredit Card **\nPersonal Check **\n   Bank Transfer **\n\n** We will provide details to registering participants ** \nDeadline for Registration & Payment:  August 20th\, 2019 \nTo register or for any questions\, please reply to this invitation\, email: onacny@gmail.com \nRegistration is First come\, First serve!!  We have limited seating for this workshop. Please register as early as possible to secure your spot. \nCancellation & Media Policy:   \nWorkshop fee is Non-Refundable unless class canceled. \nIndividual/Group Photos are published on our website with your permission. Photos are taken randomly during the event.  If you would like to exempt yourself\, please inform the facilitators. Please refrain from using cell phones\, video recording\, taking photos while class is in session.  \nMitakuye Oyasin (All Are Related)\, 🙏 \n 
URL:https://crsny.org/event/native-american-drum-making-workshop/
LOCATION:CRS (Center for Remembering & Sharing)\, 41 E 11th St 11th Fl\, New York\, NY\, 10003\, United States
CATEGORIES:Guest Event
ATTACH;FMTTYPE=image/png:https://crsny.org/wp-content/uploads/2019/07/image.png
ORGANIZER;CN="Oklevueha Native American Church of New York":MAILTO:onacny@gmail.com
GEO:40.733158;-73.992729
X-APPLE-STRUCTURED-LOCATION;VALUE=URI;X-ADDRESS=CRS (Center for Remembering & Sharing) 41 E 11th St 11th Fl New York NY 10003 United States;X-APPLE-RADIUS=500;X-TITLE=41 E 11th St 11th Fl:geo:-73.992729,40.733158
END:VEVENT
END:VCALENDAR