BEGIN:VCALENDAR
VERSION:2.0
PRODID:-//CRS (Center for Remembering &amp; Sharing) - ECPv6.15.20//NONSGML v1.0//EN
CALSCALE:GREGORIAN
METHOD:PUBLISH
X-ORIGINAL-URL:https://crsny.org
X-WR-CALDESC:Events for CRS (Center for Remembering &amp; Sharing)
REFRESH-INTERVAL;VALUE=DURATION:PT1H
X-Robots-Tag:noindex
X-PUBLISHED-TTL:PT1H
BEGIN:VTIMEZONE
TZID:America/New_York
BEGIN:DAYLIGHT
TZOFFSETFROM:-0500
TZOFFSETTO:-0400
TZNAME:EDT
DTSTART:20180311T070000
END:DAYLIGHT
BEGIN:STANDARD
TZOFFSETFROM:-0400
TZOFFSETTO:-0500
TZNAME:EST
DTSTART:20181104T060000
END:STANDARD
BEGIN:DAYLIGHT
TZOFFSETFROM:-0500
TZOFFSETTO:-0400
TZNAME:EDT
DTSTART:20190310T070000
END:DAYLIGHT
BEGIN:STANDARD
TZOFFSETFROM:-0400
TZOFFSETTO:-0500
TZNAME:EST
DTSTART:20191103T060000
END:STANDARD
BEGIN:DAYLIGHT
TZOFFSETFROM:-0500
TZOFFSETTO:-0400
TZNAME:EDT
DTSTART:20200308T070000
END:DAYLIGHT
BEGIN:STANDARD
TZOFFSETFROM:-0400
TZOFFSETTO:-0500
TZNAME:EST
DTSTART:20201101T060000
END:STANDARD
END:VTIMEZONE
BEGIN:VEVENT
DTSTART;TZID=America/New_York:20191006T130000
DTEND;TZID=America/New_York:20191006T143000
DTSTAMP:20260420T105850
CREATED:20190903T170402Z
LAST-MODIFIED:20190905T211411Z
UID:35784-1570366800-1570372200@crsny.org
SUMMARY:Find & Feel Your Acupoints
DESCRIPTION:Ms. Mayumi Yanamoto from Tokyo (Director of Mejioro Acupucnture Clinic http://mejiroacu.com/en/info.html ) will share knowledge and technique of finding and feeling acupoints to maintain and enhance beauty and health.\nIt is a rare opportunity to learn from Ms. Yanamoto\, so please join us!\nSeats are limited. ( Lectured in Japanese and English as needed) \n\nYOU WILL….\n\n\n*Learn how to sharpen your sense of fingertips\n\n\n* Feel changes in your body changes with acupoints\n\n\n*Learn acupoints on the neck\n\n\n*Learn acupoints for neck distortion\n\n\n*Learn acupoints for eye strain\n\n\n* Learn how to find the famous acupoints as gynecological all-purpose acupuncture points.\n\n\n* Learn to use face and head acupuncture points to relax your eyes and head and relax your face.\n\n\n\n\n\nNOTE\n\n\n* As the acupoints below the knee are used\, please wear clothes that allow the knee and the instep and toes to come out smoothly.\n\n\n* Please bring a mirror as you will perform treatment while looking at the mirror.\n\n\n\n* As you use your feet\, face and head\, please bring a wet tissue if you like. \n\n\nAbout Mayumi Yanamoto\nBorn in Hiroshima Prefecture\nDoshisha University graduation\nTokyo hygiene school graduation Acupuncture Anma massage acupressure national qualification\nPerform acupuncture massage Shiatsu business in Tokyo Denenchofu\nMLAJ medical manipulative lymph drainage therapist (senior)\nTraining in Hokkaido Toho acupuncture\, learn Masako Yoshikawa teacher of Yin and Yang acupuncture\nServed as lymph drainage lecturer\, also performs lymphedema clinical\nTokyo hygiene Gakuen clinical Graduate School of part-time lecturer\nNSD All Japan Taijiquan Federation ten style tai chi instructor
URL:https://crsny.org/event/find-feel-your-acupoints/
LOCATION:CRS (Center for Remembering & Sharing)\, 41 E 11th St 11th Fl\, New York\, NY\, 10003\, United States
CATEGORIES:Guest Event
ATTACH;FMTTYPE=image/png:https://crsny.org/wp-content/uploads/2019/09/image.png
GEO:40.733158;-73.992729
X-APPLE-STRUCTURED-LOCATION;VALUE=URI;X-ADDRESS=CRS (Center for Remembering & Sharing) 41 E 11th St 11th Fl New York NY 10003 United States;X-APPLE-RADIUS=500;X-TITLE=41 E 11th St 11th Fl:geo:-73.992729,40.733158
END:VEVENT
BEGIN:VEVENT
DTSTART;TZID=America/New_York:20191006T133000
DTEND;TZID=America/New_York:20191006T150000
DTSTAMP:20260420T105850
CREATED:20190917T163250Z
LAST-MODIFIED:20190917T163250Z
UID:35810-1570368600-1570374000@crsny.org
SUMMARY:Introductory Noh workshop for beginners
DESCRIPTION:Experience a moment of stillness from your busy life in NYC\, and let the energy flow with Noh dance Shimai\, which is called “a moving Zen meditation”. Center your body and expand your imagination with Noh chanting Utai\, which requires deep breath. \nNoh is a Japanese traditional form of art consisting of music\, dance\, and drama originated in the 14thcentury. It’s commonly considered that Noh is a performance to see in modern days\, but Noh was a performance “to perform” in old days. In medieval in Japan Noh was practiced for a physical training as well as mindfulness for being aware of the moment to survive and live out in a turbulent period. \nIn this workshop you will experience a short segment of Noh chanting Utaiand Noh dance Shimaiafter a lecture on the history and the time and space of Noh. \nDate: October 6th  1:30PM~3:00PM   (In English) \nLocation: CRS ＠White room \nAttend fee: Free \nWhat you need: Socks or Tabi Socks (Japanese traditional socks) \nFor more info: gekyouman@gmail.com \nInstructor: Mayo Miwa\nStarted Noh at the age of 14. Graduated from Tokyo University of the Arts\, majored in Noh theater. Trained at Kanze School of Noh under the tutelage of their leading actor in Tokyo. Since moving to NY in 2004\, collaborating with artists from different media to develop the art of Noh in contemporary forms. Now a member of the Noh Society US\, facilitating educational programs for Japanese traditional performing arts by actors from Japan.
URL:https://crsny.org/event/introductory-noh-workshop-for-beginners/
LOCATION:CRS (Center for Remembering & Sharing)\, 41 E 11th St 11th Fl\, New York\, NY\, 10003\, United States
CATEGORIES:Guest Event
ATTACH;FMTTYPE=image/jpeg:https://crsny.org/wp-content/uploads/2019/09/JSWS1.jpg
ORGANIZER;CN="Mayo Miwa":MAILTO:gekyouman@gmail.com
GEO:40.733158;-73.992729
X-APPLE-STRUCTURED-LOCATION;VALUE=URI;X-ADDRESS=CRS (Center for Remembering & Sharing) 41 E 11th St 11th Fl New York NY 10003 United States;X-APPLE-RADIUS=500;X-TITLE=41 E 11th St 11th Fl:geo:-73.992729,40.733158
END:VEVENT
BEGIN:VEVENT
DTSTART;TZID=America/New_York:20191012T183000
DTEND;TZID=America/New_York:20191012T200000
DTSTAMP:20260420T105850
CREATED:20191003T221046Z
LAST-MODIFIED:20191003T221046Z
UID:35886-1570905000-1570910400@crsny.org
SUMMARY:Opening Reception for the Exhibition Electricity — Works by Fanny Pérez Gutiérrez
DESCRIPTION:CRS invites you to an Opening Reception on Saturday\, October 12\, 2019 from 6:30 – 8 pm for the exhibition ELECTRICITY\, recent works by artist and dancer Fanny Pérez Gutiérrez inspired by her personal experiences and visions that have come to her revealing the light connecting all of creation. There will be a live performance by the artist with video projection. \nThe exhibition will remain on view from October 4 – November 25\, 2019. \nCONCEPT \n“The day when we shall know exactly what “electricity” is\, will chronicle an event probably greater\, more important than any other recorded in the history of the human race.” — N. Tesla \nOn my 25th birthday I attended a ceremony where I was taught a lesson about love. I was shown a line of women: a mom and her daughter\, then my grandmother\, then my mom\, I could feel something building up inside me\, and then the dog that lived with us since I was 15 appeared. Her eyes like a well staring back at me\, a love so giving that expected nothing in return\, pure. I exploded. Out of me came thousands\, millions of rays of light until I saw myself as a star\, sitting in space. I understood that that’s where I am and always will be\, and that from there\, I could go wherever\, whenever because every single point in space and time is connected\, by the light. \nIn mysticism\, as in modern physics\, light is a recurrent theme\, but it wasn’t until I had a direct experience that I began noticing. What you see in this series are depictions of my learning. Each one is a tribute to honor the knowledge that has manifested. \n— Fanny \nARTIST STATEMENT \nOne of the definitions of art is that it is the expression or application of human creative skill and imagination. I like it because it puts so much of what I think art is simply into one sentence. Art is so much more that whatever we put on an empty canvas and it’s important to recognize its multidimensionality. By doing so\, not only do we highlight the existence of art outside of what/where we normally consider it to be\, but we are reminded of the transient nature of the state of things. \nIt’s difficult to name one’s identity with a single noun\, or by what one does at a specific moment; exclusion by naming is dire. I consider art to be part of our humanity\, one that develops best when in harmony with our environment. It is our birthright to have room to express ourselves\, and with that\, push forward new ideas that change the shape of things. I become an artist to bring what I experience in other planes to this plane.  \nARTIST BIOGRAPHY \nFanny Pérez Gutiérrez was born in Mexico City in December 1989 to Fanny and Beto. She grew up dancing and arrived in NYC at 18. After school\, she became involved in the non-profit art world\, then for a couple of years taught art and dance to kids. For the last year has been dedicated to aligning herself with her passions\, which are dancing & impulsing the demystification of important aspects of life that we’ve been conditioned to undermine.
URL:https://crsny.org/event/opening-reception-for-the-exhibition-electricity-works-by-fanny-perez-gutierrez/
LOCATION:CRS (Center for Remembering & Sharing)\, 41 E 11th St 11th Fl\, New York\, NY\, 10003\, United States
CATEGORIES:CRS Presents,Exhibition
ATTACH;FMTTYPE=image/jpeg:https://crsny.org/wp-content/uploads/2019/10/IMG_0362.jpg
ORGANIZER;CN="CRS (Center for Remembering & Sharing)":MAILTO:info@crsny.org
GEO:40.733158;-73.992729
X-APPLE-STRUCTURED-LOCATION;VALUE=URI;X-ADDRESS=CRS (Center for Remembering & Sharing) 41 E 11th St 11th Fl New York NY 10003 United States;X-APPLE-RADIUS=500;X-TITLE=41 E 11th St 11th Fl:geo:-73.992729,40.733158
END:VEVENT
END:VCALENDAR