BEGIN:VCALENDAR
VERSION:2.0
PRODID:-//CRS (Center for Remembering &amp; Sharing) - ECPv6.15.20//NONSGML v1.0//EN
CALSCALE:GREGORIAN
METHOD:PUBLISH
X-ORIGINAL-URL:https://crsny.org
X-WR-CALDESC:Events for CRS (Center for Remembering &amp; Sharing)
REFRESH-INTERVAL;VALUE=DURATION:PT1H
X-Robots-Tag:noindex
X-PUBLISHED-TTL:PT1H
BEGIN:VTIMEZONE
TZID:America/New_York
BEGIN:DAYLIGHT
TZOFFSETFROM:-0500
TZOFFSETTO:-0400
TZNAME:EDT
DTSTART:20180311T070000
END:DAYLIGHT
BEGIN:STANDARD
TZOFFSETFROM:-0400
TZOFFSETTO:-0500
TZNAME:EST
DTSTART:20181104T060000
END:STANDARD
BEGIN:DAYLIGHT
TZOFFSETFROM:-0500
TZOFFSETTO:-0400
TZNAME:EDT
DTSTART:20190310T070000
END:DAYLIGHT
BEGIN:STANDARD
TZOFFSETFROM:-0400
TZOFFSETTO:-0500
TZNAME:EST
DTSTART:20191103T060000
END:STANDARD
BEGIN:DAYLIGHT
TZOFFSETFROM:-0500
TZOFFSETTO:-0400
TZNAME:EDT
DTSTART:20200308T070000
END:DAYLIGHT
BEGIN:STANDARD
TZOFFSETFROM:-0400
TZOFFSETTO:-0500
TZNAME:EST
DTSTART:20201101T060000
END:STANDARD
END:VTIMEZONE
BEGIN:VEVENT
DTSTART;TZID=America/New_York:20191020T120000
DTEND;TZID=America/New_York:20191020T160000
DTSTAMP:20260421T152313
CREATED:20190805T005339Z
LAST-MODIFIED:20190829T003659Z
UID:35686-1571572800-1571587200@crsny.org
SUMMARY:Sufi Dance Workshop
DESCRIPTION:CRS (Center for Remembering & Sharing) invites you to join our whirling community for an intensive workshop in Sufi Dance (sema or samâ in Arabic and Farsi) led by Sufi dance artists & CRS instructors Paola García and Lâle Sayoko. Samâ means spiritual listening and its accompanying whirling dance embodies unity: unity within our own selves first\, and with the outer world and “others” second. Both beginners and more experienced whirlers and people of all faiths and ages are welcome. Together\, let’s experience the peace and blissfulness that come with accepting all feelings that arise during our practice\, including the uncomfortable. \nIn this workshop\, you will learn whirling technique and experience several meditation-in-motion exercises meant to facilitate connection with the deepest parts of our selves. You will also learn essential facts and some history about Sufism. This will promote an understanding of how we can benefit from the wisdom of this ancient tradition in a way that is deeply relevant and applicable to our experience as modern beings. Poetry and sacred music will be important components of this workshop. Those with prior experience will learn more advanced techniques and be led deeper into their practice. \n“Dancing is not just getting up painlessly\, like a leaf blown on the wind; dancing is when you tear your heart out and rise out of your body to hang suspended between the worlds.”\n– Jalal ad-Din Rumi. \nSufi whirling is called the dance of the soul because of its ability to liberate the dancer’s soul from the prison of the body. A background in dance is not necessary to benefit from the alchemy and spiritual richness of this practice\, derived from Islamic mysticism. Cathartic and powerful\, this practice is life-altering\, exerting an irresistible pull on those who are called to it\, and therefore meant to remove their veils and witness the intoxicating light of the divinity that lies at the core of our human essence. \nThe workshop fee is $70 until Oct 18 and $80 at the door. Registration is available online\, by phone (212-677-8621)\, and at CRS. \nPlease wear solid colored comfortable clothing like yoga pants or leggings and no jewelry or strapless tops or short skirts/pants. Bring socks or flat dance slippers to dance in. If you have a whirling skirt\, you may bring it. Bring a notebook and pen and water bottle. \nDo not eat for at least a couple of hours before the workshop. \nLearn more about Sufi dance:\nhttps://www.moroccoworldnews.com/2016/09/196246/the-one-thing-in-the-world-you-must-never-forget/ \nAbout the Instructors \nPaola García was awarded the International Sufi Dance Certification Of Cid UNESCO by Persian master Rana Gorgani\, granting Paola the authority to teach Gorgani’s method of Sufi dance training. She holds a Master’s Degree in Islamic Studies from Columbia University. She is a writer\, Middle Eastern Studies researcher\, translator and student of Sufism. \nLâle Sayoko lives to embody and transmit the voice of spirit through music and dance. As CRS resident Sufi Dance instructor\, choreographer\, performing artist\, and musical curator\, she loves to welcome people into this holy practice to explore and share their own divinity. After a long professional dance career\, she retired to support her young daughter through a life-threatening medical crisis. Several years later she discovered that she could whirl as a form of prayer to support her daughter and began studying Sufi Dance with Paris-based Sufi Artist Rana Gorgani. In April 2018 Gorgani awarded her the International Sufi Dance Certification Of Cid UNESCO\, granting her authority to teach Gorgani’s method of Sufi Dance training. She currently teaches Sufi Dance classes at CRS every first Thursday of the month from 7 – 8:30 pm and leads the CRS Healing Circles + Whirling Prayer that take place every third Thursday of the month from 7:15 – 9 pm.\nhttps://www.facebook.com/lale.sayoko
URL:https://crsny.org/event/sufi-dance-workshop/
LOCATION:CRS (Center for Remembering & Sharing)\, 41 E 11th St 11th Fl\, New York\, NY\, 10003\, United States
CATEGORIES:CRS Presents,sufi
ATTACH;FMTTYPE=image/jpeg:https://crsny.org/wp-content/uploads/2019/08/191020-Sufi-Dance-Workshop.jpg
ORGANIZER;CN="CRS (Center for Remembering & Sharing)":MAILTO:info@crsny.org
GEO:40.733158;-73.992729
X-APPLE-STRUCTURED-LOCATION;VALUE=URI;X-ADDRESS=CRS (Center for Remembering & Sharing) 41 E 11th St 11th Fl New York NY 10003 United States;X-APPLE-RADIUS=500;X-TITLE=41 E 11th St 11th Fl:geo:-73.992729,40.733158
END:VEVENT
BEGIN:VEVENT
DTSTART;TZID=America/New_York:20191025T200000
DTEND;TZID=America/New_York:20191025T213000
DTSTAMP:20260421T152313
CREATED:20190413T004707Z
LAST-MODIFIED:20191001T234549Z
UID:33982-1572033600-1572039000@crsny.org
SUMMARY:Classical Avant-Punk Violin Duo String Noise Performs the Music of Ki Young Kim
DESCRIPTION:CRS (Center for Remembering & Sharing) presents CROSSING BOUNDARIES Concert Series Vol. 10\, STRING NOISE\, curated by gamin. Classical avant-punk violin duo String Noise will explore the Korean/contemporary music of noted Korean composer Ki Young Kim. \ncurator: gamin\nmusicians: String Noise (violin duo Conrad Harris and Pauline Kim Harris) and gamin\ncomposer: Ki Young Kim \nThis is the seventh of eight concerts in the series during 2019 and will take place on October 25\, 2019 at 8 pm at CRS. \nTickets are $25 in advance $30 at the door. Students and seniors with valid ID can purchase tickets for $20 at the door. Tickets are available online at crsny.org\, by phone (212-677-8621)\, and at CRS. \nABOUT THE MUSICIANS \nSTRING NOISE is a classical\, avant-punk violin duo comprised of violinists Conrad Harris and Pauline Kim Harris. Since its inception in 2011 at Ostrava New Music Days\, they have expanded the two violin repertoire in over 50 new works to include larger collaborations with multimedia art\, electronics\, video projections\, opera and dance. \nTheir first feature album “The Book of Strange Positions” was released on NORTHERN SPY RECORDS in November 2015. Tiny Mix Tapes describes this collection of original works and arrangements by Eric Lyon of punk covers by Bad Brains\, Violent Femmes\, Deerhoof\, Radiohead\, and Black Flag as a “mix of classic punk covers and ZERO APOLOGIES.” Their 7” inch EP “Covers” produced by Deerhoof drummer and composer Greg Saunier is also available on Northern Spy Records. \nString Noise was highlighted in Performa 2011 with artist Will Cotton and was the featured ensemble for the launch of composers collective Indexical (David Kant\, Andrew Christopher Smith\, Mustafa Walker and Beau Sievers). Premieres by String Noise include works by Christian Wolff\, John King\, Phill Niblock\, Caleb Burhans\, David Lang\, Petr Kotik\, Du Yun\, Annie Gosfield\, Bernhard Lang\, Spencer Topel\, Derek Hurst\, Jerome Begin\, Elizabeth Hoffman\, John Zorn\, Greg Saunier\, Alex Mincek\, Yoon-Ji Lee\, Catherine Lamb\, Petr Bakla\, Richard Carrick and Alvin Lucier\, to name some. String Noise has performed at Issue Project Room\, Bohemian National Hall\, Roulette\, EXAPNO\, Rockwood Music Hall\, Miller Gallery\, Noguchi Museum and the Stone and has been heard on WNYC\, WKCR and WFMU. \nCo-concertmasters of Wordless Music Orchestra\, Ensemble LPR and the S.E.M. Ensemble\, String Noise has collaborated in special projects with artists such as Jonny Greenwood (Radiohead)\, John Cale (Velvet Underground)\, Billy Martin (Martin\, Medeski\, Wood)\, Mica Levi (Micachu and the Shapes)\, Jon Brion\, Laurie Anderson\, Jason Moran\, Roscoe Mitchell\, Max Richter and and Rostam (Vampire Weekend). \nAs curators\, String Noise presented Drawing Sound: Part II at the Drawing Center – a three night mini-festival featuring artists Alvin Lucier\, Greg Saunier and Jad Fair and is a co-curator for Carnegie Hill Concerts in New York.\nstringnoiseduo.com \nGAMIN is a Korean traditional musician\, trained in jeongak — the classical music of the court — and sinawi — the collaborative improvisation that accompanies Korean shamanic ritual. Since leaving orchestral work behind eight years ago\, gamin has taken these skills in unexpected directions\, using her piri and taepyeongso (Korean oboes)\, and saengwhang (mouth organ) to pursue contemporary sounds and reach new audiences. \ngamin is…”a true pioneer and innovator\, leading these instruments in exciting new directions” — Ralph Samuelson (senior advisor of ACC_Asian Cultural Council) \n“gamin appears virtually unlimited as to the kinds of sounds she can get out of her instrument!” — Anthony Paul De\, Ritis (composer\, professor of Northeastern University)\nhttps://gamin-music.com \nABOUT THE COMPOSER \nDubbed a borderless musician\, composer Ki Young Kim has moved in and out of Genres and across international boundaries\, while collaborating with dancers\, theater directors\, visual artists in various fields and forms. He is the founder of CMB 567 ( Contemporary Music Band 567)\, a groups of four composers and seven musicians dedicated to exploring the interaction among various contemporary korean and other asian music and art forms. He lives in New York. \nABOUT CROSSING BOUNDARIES \nNow in its second year\, CROSSING BOUNDARIES is a performance series devoted to creating unforgettable live art experiences that dissolve boundaries between performers and audiences\, traditional and new music\, and the local and the global\, bringing people together and promoting the awareness that we each possess a limitless creativity inside us.  \nThe 2019 season of CROSSING BOUNDARIES is made possible in part with public funds from Creative Engagement\, supported by the New York City Department of Cultural Affairs in partnership with the City Council and the New York State Council on the Arts with the support of Governor Andrew Cuomo and administered by LMCC. LMCC empowers artists by providing them with networks\, resources\, and support\, to create vibrant\, sustainable communities in Manhattan and beyond. \n  \n 
URL:https://crsny.org/event/crossing-boundaries-10/
LOCATION:CRS (Center for Remembering & Sharing)\, 41 E 11th St 11th Fl\, New York\, NY\, 10003\, United States
CATEGORIES:Concert,Crossing Boundaries,CRS Presents
ATTACH;FMTTYPE=image/jpeg:https://crsny.org/wp-content/uploads/2019/04/image1.jpeg
ORGANIZER;CN="CRS (Center for Remembering & Sharing)":MAILTO:info@crsny.org
GEO:40.733158;-73.992729
X-APPLE-STRUCTURED-LOCATION;VALUE=URI;X-ADDRESS=CRS (Center for Remembering & Sharing) 41 E 11th St 11th Fl New York NY 10003 United States;X-APPLE-RADIUS=500;X-TITLE=41 E 11th St 11th Fl:geo:-73.992729,40.733158
END:VEVENT
END:VCALENDAR