BEGIN:VCALENDAR
VERSION:2.0
PRODID:-//CRS (Center for Remembering &amp; Sharing) - ECPv6.15.20//NONSGML v1.0//EN
CALSCALE:GREGORIAN
METHOD:PUBLISH
X-WR-CALNAME:CRS (Center for Remembering &amp; Sharing)
X-ORIGINAL-URL:https://crsny.org
X-WR-CALDESC:Events for CRS (Center for Remembering &amp; Sharing)
REFRESH-INTERVAL;VALUE=DURATION:PT1H
X-Robots-Tag:noindex
X-PUBLISHED-TTL:PT1H
BEGIN:VTIMEZONE
TZID:America/New_York
BEGIN:DAYLIGHT
TZOFFSETFROM:-0500
TZOFFSETTO:-0400
TZNAME:EDT
DTSTART:20180311T070000
END:DAYLIGHT
BEGIN:STANDARD
TZOFFSETFROM:-0400
TZOFFSETTO:-0500
TZNAME:EST
DTSTART:20181104T060000
END:STANDARD
BEGIN:DAYLIGHT
TZOFFSETFROM:-0500
TZOFFSETTO:-0400
TZNAME:EDT
DTSTART:20190310T070000
END:DAYLIGHT
BEGIN:STANDARD
TZOFFSETFROM:-0400
TZOFFSETTO:-0500
TZNAME:EST
DTSTART:20191103T060000
END:STANDARD
BEGIN:DAYLIGHT
TZOFFSETFROM:-0500
TZOFFSETTO:-0400
TZNAME:EDT
DTSTART:20200308T070000
END:DAYLIGHT
BEGIN:STANDARD
TZOFFSETFROM:-0400
TZOFFSETTO:-0500
TZNAME:EST
DTSTART:20201101T060000
END:STANDARD
END:VTIMEZONE
BEGIN:VEVENT
DTSTART;TZID=America/New_York:20191121T191500
DTEND;TZID=America/New_York:20191121T210000
DTSTAMP:20260425T212554
CREATED:20191106T235152Z
LAST-MODIFIED:20191106T235152Z
UID:36009-1574363700-1574370000@crsny.org
SUMMARY:CRS Healing Circle:  Meditation + Whirling Prayer
DESCRIPTION:Join us for our monthly Healing Circle + Whirling (Sufi Dance) Prayer! \nLed by Sufi Dance Artist Lâle Sayoko and CRS Healer Christopher Pelham\, we create a safe space in which to let go of our small selves and recognize the divinity in one another and within ourselves. When we do so\, we can trust ourselves to fully experience our feelings with the awareness that they cannot hurt us\, or overwhelm us\, or change us at all\, because we are still as Love created us. \nAfter we’ll enjoy social time with tea and snacks. \nThe participation fee is $20 with advanced registration and $25 at the door. Direct registration link:\nhttps://is.gd/B9HElo \nThrough whirling\, we learn to trust ourselves to go off balance\, to be dizzy\, to surrender control as we give ourselves over to prayer and connect with a greater power\, the still center within\, around which we turn\, that we may share our divine strength and bear witness to the divinity in others. \nIf you are quiet and in a state of prayer when you Turn\, offering everything of yourself to God\, then when your body is spinning\, there is a completely still point in the center… The heavens respond; and all the invisible kingdoms join in the dance. But the world does not understand. They think we Turn in order to go into some sort of trance. It is true that sometimes we do go into that state you call ecstasy\, but that is only when we know and experience at the same time. We do not Turn for ourselves. We turn around in the way we do so that the Light of God may descend upon the earth. As you act as a conduit in the Turn\, the light comes through the right hand\, and the left hand brings it into this world… We turn for God and for the world\, and it is the most beautiful thing you can imagine. — Mevlevi Shaikh Suleyman Hyatt Dede \nSufi Dance Instructor Lâle Sayoko lives to embody and transmit the voice of spirit through music and dance. As CRS resident Sufi Dance instructor\, choreographer\, performing artist\, and musical curator\, she loves to welcome people into this holy practice to explore and share their own divinity. After a long professional dance career\, she retired to support her young daughter through a life-threatening medical crisis. Several years later she discovered that she could whirl as a form of prayer to support her daughter and began studying Sufi Dance with Paris-based Sufi Artist Rana Gorgani. In April 2018 Gorgani awarded her the International Sufi Dance Certification Of Cid UNESCO\, granting her authority to teach Gorgani’s method of Sufi Dance training. She currently teaches Sufi Dance classes at CRS every first Thursday of the month from 7 – 8:30 pm and leads the CRS Healing Circles + Whirling Prayer that take place every third Thursday of the month from 7:15 – 9 pm.\nhttps://www.facebook.com/lale.sayoko \nChristopher Pelham is a spiritual healer/counselor/teacher/artist who draws on practices from ACIM\, Non-Violent Communication\, improvisational theater\, Sufism\, and contemporary shamanism to help people remember who they really are. He is the Director and co-founder of CRS (Center for Remembering & Sharing). He has also taught and/or offered healing in London\, in Japan\, at the 2018 Awakening to the One Mind Retreat\, and at the 2017 Enlight Festival of A Course in Miracles in Ibiza\, Spain.\nhttp://www.chrispelham.com
URL:https://crsny.org/event/crs-healing-circle-meditation-whirling-prayer-8/
LOCATION:CRS (Center for Remembering & Sharing)\, 41 E 11th St 11th Fl\, New York\, NY\, 10003\, United States
CATEGORIES:ACIM-Related Event,CRS Presents,sufi
ATTACH;FMTTYPE=image/jpeg:https://crsny.org/wp-content/uploads/2019/01/Sayoko-Williams-whirling-by-Tomoko-Iki-1-cropped.jpg
ORGANIZER;CN="CRS (Center for Remembering & Sharing)":MAILTO:info@crsny.org
GEO:40.733158;-73.992729
X-APPLE-STRUCTURED-LOCATION;VALUE=URI;X-ADDRESS=CRS (Center for Remembering & Sharing) 41 E 11th St 11th Fl New York NY 10003 United States;X-APPLE-RADIUS=500;X-TITLE=41 E 11th St 11th Fl:geo:-73.992729,40.733158
END:VEVENT
BEGIN:VEVENT
DTSTART;TZID=America/New_York:20191123T160000
DTEND;TZID=America/New_York:20191123T171500
DTSTAMP:20260425T212554
CREATED:20190927T201959Z
LAST-MODIFIED:20191118T053515Z
UID:35827-1574524800-1574529300@crsny.org
SUMMARY:Four Seasons in New York — Gems of Japanese Music Vol. 16
DESCRIPTION:CRS (Center for Remembering and Sharing) invites you to discover traditional Japanese music by the acclaimed koto and shamisen player Yoko Reikano Kimura offered together with an exclusive taste of beautiful Japanese seasonal confectionary prepared by mochi Rin. This will be the first concert of the 2019-2020 season of Four Seasons in New York — Gems of Japanese Music. The autumn concert will be held on Saturday\, November 23\, 2019 at CRS. \nTickets are $30 (general) and $20 (students) include wagashi (Japanese confectionary).\nSeating is limited and advanced purchase (online\, by phone 212-677-8621\, or in person at CRS) is strongly encouraged. \nProgram\nYachiyo-jishi (by Fujieda-kengyo)\n “Matsukaze” （松風）\nZangiku – Withering Chrysanthemum (by Marty Regan) \n“…Yoko Reikano Kimura\, playing the shamisen and singing\, is superb….” — New York Times\n“…Kimura’s voice was rich and full-bodied ….” — KCMETROPLIS\n“…Under Kimura’s practiced hand\, there were also occasional dramatic and explosive passages. – Koto Concerto: Genji” — The NEWS GAZZETE \nAbout Four Seasons in New York – Gems of Japanese Music\nNew York’s music scene reflects the diverse and vibrant culture of the city. Kimura\, together with CRS (Center for Remembering and Sharing)\, began this concert series in the fall of 2015. As a Japanese instrumentalist\, she hopes to introduce the brilliance of traditional Japanese music\, which is still being passed on to future generations after many centuries. Starting with the 2018-19 season\, the series has featured contemporary pieces composed by living composers as well. Since the first concert\, about 40 works from the classical repertoire have been introduced in the concert series. Please come and experience the sounds of koto and shamisen and enjoy the taste of the four seasons here in New York! \nThis concert series is supported by Mar Creation\, Inc. \nAbout past performances: https://www.yokoreikanokimura.com/projects/fourseasons/ \nYOKO REIKANO KIMURA is a distinguished virtuoso of Japanese koto\, shamisen performer and singer in both traditional and contemporary music. Kimura has concertized in about 20 countries around the world based in New York and Japan. Following her studies at the Tokyo University of the Arts\, she studied at Institute of Traditional Japanese Music\, an affiliate of Senzoku Gakuen College of Music in Japan. Kimura was awarded a scholarship from the Agency of Cultural Affairs of Japan. Her teachers include Kono Kameyama\, Akiko Nishigata and Senko Yamabiko\, a Living National Treasure. Awards include the First prize at the prestigious 10th Kenjun Memorial National Koto Competition and the First prize at the 4th Great Wall International Music Competition. Kimura performed at the Kabuki-za in Tokyo\, accompanying Danjuro Ichikawa XII. Her performances have been broadcasted on NHK-FM’s Hogaku no Hitotoki\, NPR’s Performance Today and WKCR. As a koto soloist\, Kimura has performed Daron Hagen’s Koto Concerto: Genji with the Wintergreen Music Festival Orchestra conducted by Mei-Ann Chen and several string quartets. As a shamisen soloist\, she performed Kin’ichi Nakanoshima’s Shamisen Concerto at the National Olympic Memorial Youth Center. \nHer performances have been featured at many opera and theater works\, such as Michi Wiancko’s Murasaki’s Moon at Metropolitan Museum\, Piestro Mascagni’s Iris by American Symphony Orchestra\, Basil Twist’s Dogugaeshi\, Yasuko Yokoshi’s Bell and many others.\n \nKimura is a founder of Duo YUMENO\, with cellist Hikaru Tamaki. The duo received the Kyoto Aoyama Barock Saal Award in 2015\, and featured at Chamber Music America’s 2016 National Conference\, and performed at the John F. Kennedy Center in 2017. In 2019\, the duo had its ten-year anniversary recital at Carnegie Hall.\nWebsite: yokoreikanokimura.com | duoyumeno.com \nmochi Rin creates bite-sized mochi desserts made with organic bean paste\, seasonal fruits and flowers produced in NY. She presents a new type of mochi that doesn’t quite exist in Japan by infusing New York’s locally-produced ingredients with Japan’s popular traditional desserts —the stuffed mochi rounds\, such as daifuku and sakura-mochi — and mixing in rin\, the element of restrained grace. Website: rin-nyc.com | https://www.instagram.com/rin_nyc
URL:https://crsny.org/event/four-seasons-in-new-york-gems-of-japanese-music-vol-16/
LOCATION:CRS (Center for Remembering & Sharing)\, 41 E 11th St 11th Fl\, New York\, NY\, 10003\, United States
CATEGORIES:Concert,CRS Presents,Gems of Japanese Music
ATTACH;FMTTYPE=image/jpeg:https://crsny.org/wp-content/uploads/2019/09/0.jpeg
ORGANIZER;CN="CRS (Center for Remembering & Sharing)":MAILTO:info@crsny.org
GEO:40.733158;-73.992729
X-APPLE-STRUCTURED-LOCATION;VALUE=URI;X-ADDRESS=CRS (Center for Remembering & Sharing) 41 E 11th St 11th Fl New York NY 10003 United States;X-APPLE-RADIUS=500;X-TITLE=41 E 11th St 11th Fl:geo:-73.992729,40.733158
END:VEVENT
END:VCALENDAR