BEGIN:VCALENDAR
VERSION:2.0
PRODID:-//CRS (Center for Remembering &amp; Sharing) - ECPv6.15.20//NONSGML v1.0//EN
CALSCALE:GREGORIAN
METHOD:PUBLISH
X-ORIGINAL-URL:https://crsny.org
X-WR-CALDESC:Events for CRS (Center for Remembering &amp; Sharing)
REFRESH-INTERVAL;VALUE=DURATION:PT1H
X-Robots-Tag:noindex
X-PUBLISHED-TTL:PT1H
BEGIN:VTIMEZONE
TZID:America/New_York
BEGIN:DAYLIGHT
TZOFFSETFROM:-0500
TZOFFSETTO:-0400
TZNAME:EDT
DTSTART:20150308T070000
END:DAYLIGHT
BEGIN:STANDARD
TZOFFSETFROM:-0400
TZOFFSETTO:-0500
TZNAME:EST
DTSTART:20151101T060000
END:STANDARD
BEGIN:DAYLIGHT
TZOFFSETFROM:-0500
TZOFFSETTO:-0400
TZNAME:EDT
DTSTART:20160313T070000
END:DAYLIGHT
BEGIN:STANDARD
TZOFFSETFROM:-0400
TZOFFSETTO:-0500
TZNAME:EST
DTSTART:20161106T060000
END:STANDARD
BEGIN:DAYLIGHT
TZOFFSETFROM:-0500
TZOFFSETTO:-0400
TZNAME:EDT
DTSTART:20170312T070000
END:DAYLIGHT
BEGIN:STANDARD
TZOFFSETFROM:-0400
TZOFFSETTO:-0500
TZNAME:EST
DTSTART:20171105T060000
END:STANDARD
END:VTIMEZONE
BEGIN:VEVENT
DTSTART;TZID=America/New_York:20160228T120000
DTEND;TZID=America/New_York:20160228T133000
DTSTAMP:20260422T112233
CREATED:20160222T053353Z
LAST-MODIFIED:20160222T053353Z
UID:3168-1456660800-1456666200@crsny.org
SUMMARY:Chakra Clearing Sound Meditation
DESCRIPTION:Join us to enjoy an evening of meditation and chakra clearing group vocal toning for healing and shifting vibrations. A place to sit in a high vibration\, to ground your energies and bring yourself into alignment and balance. Come and connect to your heart and inner voice with divine connection and be with All That Is. \nThe evening will include breathing exercises\, guided visualization\, chakra clearing ceremony and group toning meditation. Amaia will guide you to use your breathing\, intention\, visualization and imagination to bring yourself into alignment with Source. Finally there will be an opportunity for you to experience a relaxing sound bath. A “Sound Bath” enables you to forget the world for a time and sink into an ocean of healing sound waves. You will also get to enjoy the sound of beautiful Alchemy crystal bowl\, Amaia’s Sound Healing Music and Vocal. These high vibrational sound waves will awaken every cell and organ in your body. This deep relaxation experience will enhance the well being of the mind\, body and spirit system which will soothes your heart\, stimulate peace\, love and joyful emotions. \nThe program will include: \nSound Bath Meditation\nGuided meditation connecting to Source\nChakra Clearing Ceremony\nGroup Vocal Toning\nOpportunity to share experience \nBenefits from soundbath meditation: \n• Promotes better sleep\n• Enhances focus & concentration\n• Increases physical vitally and mental clarity\n• Rebalances and alignment for all chakras in the\nphysical\, emotional and spiritual bodies\n• Regenerates cells and strengthens immune system\n• Helps clear energetics and emotional blockage\n• Raises vibration and shift from vibrating in a space of fear\, frustration\, or any negative emotion to a state of divine flow\n• Increases level of consciousness\n• Reduces stress \nPlease wear comfortable clothes\, bring a bottle of water and come with an open heart. Yoga mats will be provided at the studio but you’re welcome to bring your own. \nAs late entrants may disturb our meditation session\, please arrive 5 to 8 minutes before the event starts. Thanks very much in advance for your consideration for everyone else! \nPlease forward this invitation to anyone who maybe interested to come to this event. Thank you! \nCost: $25 Energy Exchange \nTickets will be sold at the door as well! Bring friends\, family and love ones\, all are welcome:) \nAmaia is a voice sound healer\, music producer/singer-songwriter and teacher based in Taipei/New York. She teaches through her spiritual Soul journey to inspire others to bring more Soul awareness into the alignment with Source from their unique Divine Soul Essence. She has worked with alchemy crystal bowls and acoustic instruments that have the power to catalyze healing and balancing as well as guiding others on a deep healing journey through transformational space in order to ground more love\, light and chakra empowerment of healing for the mind\, body and spirit. \nShe has studied sound healing and vocal sound healing in the School of Inner Sound (London); Samantha Brown\, specialized in Reiki and BodyTalk; Hari Tahil\, master of hypnotherapy\, Cranio Sacral\, spiritual energy healing and Angel attunements; Yantara Jiro – sound visionary and healer\, master in Light Language energy alignments\, vortex DNA activations and sound bath. Amaia has trained in Reiki\, Light Language energy alignments\, spiritual energy healing and Angel attunements. She is available for private/group sound healing sessions\, live events\, meditation and sound healing workshops. She also produces customized music for healing centers\, spiritual speakers/ teachers\, products and guided meditation CDs with full album production. Amaia has performed live sound healing events in China\, Taiwan\, Hong Kong and Indonesia. With a background as a professional musician/music producer\, Amaia has merged her musical talents with sound healing and spirituality. By using a combination of Sound bath\, Meditation\, Light Language energy alignment\, Reiki and Channelled energy from the universe\, which is facilitated with the connection of Source from the frequency of love.
URL:https://crsny.org/event/chakra-clearing-sound-meditation/
LOCATION:CRS (Center for Remembering & Sharing)\, 41 E 11th St 11th Fl\, New York\, NY\, 10003\, United States
CATEGORIES:Guest Event
GEO:40.733158;-73.992729
X-APPLE-STRUCTURED-LOCATION;VALUE=URI;X-ADDRESS=CRS (Center for Remembering & Sharing) 41 E 11th St 11th Fl New York NY 10003 United States;X-APPLE-RADIUS=500;X-TITLE=41 E 11th St 11th Fl:geo:-73.992729,40.733158
END:VEVENT
END:VCALENDAR