BEGIN:VCALENDAR
VERSION:2.0
PRODID:-//CRS (Center for Remembering &amp; Sharing) - ECPv6.15.20//NONSGML v1.0//EN
CALSCALE:GREGORIAN
METHOD:PUBLISH
X-ORIGINAL-URL:https://crsny.org
X-WR-CALDESC:Events for CRS (Center for Remembering &amp; Sharing)
REFRESH-INTERVAL;VALUE=DURATION:PT1H
X-Robots-Tag:noindex
X-PUBLISHED-TTL:PT1H
BEGIN:VTIMEZONE
TZID:America/New_York
BEGIN:DAYLIGHT
TZOFFSETFROM:-0500
TZOFFSETTO:-0400
TZNAME:EDT
DTSTART:20160313T070000
END:DAYLIGHT
BEGIN:STANDARD
TZOFFSETFROM:-0400
TZOFFSETTO:-0500
TZNAME:EST
DTSTART:20161106T060000
END:STANDARD
BEGIN:DAYLIGHT
TZOFFSETFROM:-0500
TZOFFSETTO:-0400
TZNAME:EDT
DTSTART:20170312T070000
END:DAYLIGHT
BEGIN:STANDARD
TZOFFSETFROM:-0400
TZOFFSETTO:-0500
TZNAME:EST
DTSTART:20171105T060000
END:STANDARD
BEGIN:DAYLIGHT
TZOFFSETFROM:-0500
TZOFFSETTO:-0400
TZNAME:EDT
DTSTART:20180311T070000
END:DAYLIGHT
BEGIN:STANDARD
TZOFFSETFROM:-0400
TZOFFSETTO:-0500
TZNAME:EST
DTSTART:20181104T060000
END:STANDARD
END:VTIMEZONE
BEGIN:VEVENT
DTSTART;TZID=America/New_York:20170925T190000
DTEND;TZID=America/New_York:20170925T203000
DTSTAMP:20260422T222543
CREATED:20170905T214727Z
LAST-MODIFIED:20170924T221839Z
UID:27759-1506366000-1506371400@crsny.org
SUMMARY:Alzheimer's & Dementia Prevention — CANCELLED
DESCRIPTION:NOTE:  THIS EVENT HAS BEEN CANCELLED. \nThe key lifestyle strategies to keep your brain sharp \n\nDid you know that only 1-2% of Alzheimer’s dementia is inherited?\n1 in 3 cases of dementia could be prevented with strategic lifestyle changes\, research shows.\n\nThis workshop will introduce the most significant lifestyle strategies that decrease your risk for brain disease. Learn the most effective tools to strengthen your brain for later in life. Understand how to boost the major factors that affect brain health and performance\, including diet\, fitness\, smoking\, education\, hearing loss\, social engagements and other lifestyle factors. \nThe workshop is co-presented by neurologist Sonja Blum and nutritionist and fitness expert Ariane Hundt. \nSonja is a memory disorders and dementias specialist. She completed her neurology training and cognitive neurology fellowship at Columbia University in New York and is in private practice in Manhattan. \nAriane is a clinical nutrition coach and fitness expert. For years she has been helping her clients maximize their fitness and health through workouts\, nutrition education and mindset coaching. She specializes in restorative nutrition\, metabolic issues and performance nutrition and is in private practice in Manhattan. \nCost: $25 with early-sign-up. $35 at the door.\n Sign up now
URL:https://crsny.org/event/alzheimers-dementia-prevention/
LOCATION:CRS (Center for Remembering & Sharing)\, 41 E 11th St 11th Fl\, New York\, NY\, 10003\, United States
CATEGORIES:Guest Event
GEO:40.733158;-73.992729
X-APPLE-STRUCTURED-LOCATION;VALUE=URI;X-ADDRESS=CRS (Center for Remembering & Sharing) 41 E 11th St 11th Fl New York NY 10003 United States;X-APPLE-RADIUS=500;X-TITLE=41 E 11th St 11th Fl:geo:-73.992729,40.733158
END:VEVENT
END:VCALENDAR