BEGIN:VCALENDAR
VERSION:2.0
PRODID:-//CRS (Center for Remembering &amp; Sharing) - ECPv6.15.20//NONSGML v1.0//EN
CALSCALE:GREGORIAN
METHOD:PUBLISH
X-ORIGINAL-URL:https://crsny.org
X-WR-CALDESC:Events for CRS (Center for Remembering &amp; Sharing)
REFRESH-INTERVAL;VALUE=DURATION:PT1H
X-Robots-Tag:noindex
X-PUBLISHED-TTL:PT1H
BEGIN:VTIMEZONE
TZID:America/New_York
BEGIN:DAYLIGHT
TZOFFSETFROM:-0500
TZOFFSETTO:-0400
TZNAME:EDT
DTSTART:20140309T070000
END:DAYLIGHT
BEGIN:STANDARD
TZOFFSETFROM:-0400
TZOFFSETTO:-0500
TZNAME:EST
DTSTART:20141102T060000
END:STANDARD
BEGIN:DAYLIGHT
TZOFFSETFROM:-0500
TZOFFSETTO:-0400
TZNAME:EDT
DTSTART:20150308T070000
END:DAYLIGHT
BEGIN:STANDARD
TZOFFSETFROM:-0400
TZOFFSETTO:-0500
TZNAME:EST
DTSTART:20151101T060000
END:STANDARD
BEGIN:DAYLIGHT
TZOFFSETFROM:-0500
TZOFFSETTO:-0400
TZNAME:EDT
DTSTART:20160313T070000
END:DAYLIGHT
BEGIN:STANDARD
TZOFFSETFROM:-0400
TZOFFSETTO:-0500
TZNAME:EST
DTSTART:20161106T060000
END:STANDARD
BEGIN:DAYLIGHT
TZOFFSETFROM:-0500
TZOFFSETTO:-0400
TZNAME:EDT
DTSTART:20170312T070000
END:DAYLIGHT
BEGIN:STANDARD
TZOFFSETFROM:-0400
TZOFFSETTO:-0500
TZNAME:EST
DTSTART:20171105T060000
END:STANDARD
END:VTIMEZONE
BEGIN:VEVENT
DTSTART;TZID=America/New_York:20160320T130000
DTEND;TZID=America/New_York:20160320T143000
DTSTAMP:20260422T220639
CREATED:20160217T075038Z
LAST-MODIFIED:20160217T075038Z
UID:3163-1458478800-1458484200@crsny.org
SUMMARY:Spring Equinox Group Healing
DESCRIPTION:AWAKENING BALANCE – A three-part series \nPart 1: Rejuvenating Body-Mind\nWith Reiki Master Nathalie Jaspar & Holistic Practitioner Michele Kong\nSPRING EQUINOX GROUP HEALING\nMARCH 20\, 2016 from 5-6:30pm \nWith the arrival of the Vernal (Spring) Equinox\, we are offering the first in a three-part series Awakening Balance. \nThe first stirrings of spring are underfoot. This can be an exciting time to celebrate the earth\, welcome warmth\, prepare for new growth and a whole lot more. Following the cues of nature\, we invite you into a healing space to rejuvenate and deepen your body-mind connection. \nCombining breath\, gentle movement\, visualization\, subtle energy as well as hands-on techniques\, we offer a deeply transformative group healing experience. Our aim is to support optimal alignment of physical\, emotional\, spiritual and energetic frequencies in addition to introducing practices that will continue to nourish you through the budding season. \n  \nEarly Bird $30 / $35 After March 13\nSpace is limited. Pre-registration highly recommended.\nPre-register at: www.awakeningbalance1.eventbrite.com \nForthcoming Awakening Balance group healing events will be offered in May and July. \nFor further information\, please contact:\nReiki Master Nathalie Jaspar\nnatjaspar@me.com\nwww.diveintoreiki.com \n-or- \nHolistic Practitioner Michele Kong\nMichele.L.Kong@gmail.com\nwww.lovewholebeing.com
URL:https://crsny.org/event/spring-equinox-group-healing/
LOCATION:CRS (Center for Remembering & Sharing)\, 41 E 11th St 11th Fl\, New York\, NY\, 10003\, United States
CATEGORIES:Guest Event
ATTACH;FMTTYPE=image/jpeg:https://crsny.org/wp-content/uploads/2016/02/160320-Michele-Kong-Workshop.jpg
ORGANIZER;CN="Michele Kong":MAILTO:Michele.L.Kong@gmail.com
GEO:40.733158;-73.992729
X-APPLE-STRUCTURED-LOCATION;VALUE=URI;X-ADDRESS=CRS (Center for Remembering & Sharing) 41 E 11th St 11th Fl New York NY 10003 United States;X-APPLE-RADIUS=500;X-TITLE=41 E 11th St 11th Fl:geo:-73.992729,40.733158
END:VEVENT
BEGIN:VEVENT
DTSTART;TZID=America/New_York:20160110T120000
DTEND;TZID=America/New_York:20160110T133000
DTSTAMP:20260422T220639
CREATED:20160101T142951Z
LAST-MODIFIED:20160102T001801Z
UID:2995-1452427200-1452432600@crsny.org
SUMMARY:Igniting Intentions:  New Year & New Moon Energy Workshop
DESCRIPTION:With Reiki Master Nathalie Jaspar & Holistic Practitioner Michele Kong  \n$28 Early bird / $33 After Jan 7 \nSpace is limited. Pre-registration highly recommended.\nPlease register at: http://ignitingintentions.eventbrite.com \nAfter the frenzy of the holidays and bringing the year to a close\, ringing in the New Year with yet more to-do lists of resolutions and commitments can be daunting. Many at this time of year feel overwhelmed and depleted. \nOn the first New Moon of 2016\, we invite you to connect with your innate wisdom and innermost yearnings. Using mindfulness exercises of visualization\, breath\, gentle movement and subtle energy\, we will explore and activate intentions in alignment with physical\, emotional\, spiritual and energetic realms. We aim to create a healing space in which you tune into clarity\, intuition and vision to embrace the New Year. \nFor more information\, please contact: \nNathalie Jaspar\, Reiki Master  www.natky927wellness.com\nMichele Kong\, Holistic Practitioner  www.lovewholebeing.com
URL:https://crsny.org/event/igniting-intentions-new-year-new-moon-energy-workshop/
LOCATION:CRS (Center for Remembering & Sharing)\, 41 E 11th St 11th Fl\, New York\, NY\, 10003\, United States
CATEGORIES:Guest Event
ATTACH;FMTTYPE=image/jpeg:https://crsny.org/wp-content/uploads/2016/01/160110-IgnitingIntentions_CRSflier.jpg
ORGANIZER;CN="Michele Kong":MAILTO:Michele.L.Kong@gmail.com
GEO:40.733158;-73.992729
X-APPLE-STRUCTURED-LOCATION;VALUE=URI;X-ADDRESS=CRS (Center for Remembering & Sharing) 41 E 11th St 11th Fl New York NY 10003 United States;X-APPLE-RADIUS=500;X-TITLE=41 E 11th St 11th Fl:geo:-73.992729,40.733158
END:VEVENT
BEGIN:VEVENT
DTSTART;TZID=America/New_York:20151122T120000
DTEND;TZID=America/New_York:20151122T133000
DTSTAMP:20260422T220639
CREATED:20151029T000307Z
LAST-MODIFIED:20151029T000619Z
UID:2933-1448193600-1448199000@crsny.org
SUMMARY:The Grace of Gratitude — Healing Energy Workshop
DESCRIPTION:With Reiki Master Nathalie Jaspar & Holistic Coach Michele Kong \n* Space is limited. Please pre-register: http://graceofgratitude.eventbrite.com\nWorkshop fee $25 – $30 \nWith the hubbub of grocery lists\, travel plans\, the excitement of seeing family and friends\, or bracing to tolerate yet another familial get-together during Thanksgiving\, sometimes the spirit of the holiday can get lost in the shuffle. \nThe act of giving is a natural impulse that can dissolve differences\, mend (spoken and unspoken) misunderstandings and fuel connection. With an unarmored heart\, the grace of gratitude emerges in each of us quite easily. \nTo reconnect with this quality\, we will explore gentle movement\, mindful breath work and awareness exercises along with energetic attunements to prepare you for the Thanksgiving holiday ahead. We aim for you to move through your holiday gatherings feeling centered\, balanced and embodying your innate graciousness.\nFor more information\, please contact:\nReiki Master Nathalie Jaspar\nnatjaspar@me.com \nor\nHolistic Coach Michele Kong\nclearcoachingintl@gmail.com
URL:https://crsny.org/event/the-grace-of-gratitude-healing-energy-workshop/
LOCATION:CRS (Center for Remembering & Sharing)\, 41 E 11th St 11th Fl\, New York\, NY\, 10003\, United States
CATEGORIES:Guest Event
ATTACH;FMTTYPE=image/jpeg:https://crsny.org/wp-content/uploads/2015/10/gratitude_CRSflier_3300.jpg
ORGANIZER;CN="Michele Kong":MAILTO:Michele.L.Kong@gmail.com
GEO:40.733158;-73.992729
X-APPLE-STRUCTURED-LOCATION;VALUE=URI;X-ADDRESS=CRS (Center for Remembering & Sharing) 41 E 11th St 11th Fl New York NY 10003 United States;X-APPLE-RADIUS=500;X-TITLE=41 E 11th St 11th Fl:geo:-73.992729,40.733158
END:VEVENT
BEGIN:VEVENT
DTSTART;TZID=America/New_York:20150927T130000
DTEND;TZID=America/New_York:20150927T143000
DTSTAMP:20260422T220639
CREATED:20150821T043216Z
LAST-MODIFIED:20150821T043216Z
UID:2701-1443358800-1443364200@crsny.org
SUMMARY:Aligning with Autumn: Healing Energy Workshop On The Harvest Moon
DESCRIPTION:Coming off of the high energy of summer can be challenging. It’s a time to prioritize\, regroup and re-tune. What’s in store for fall is: a slower pace\, darkness chasing the light and a cooler spectrum of energetic frequencies. \nAutumn is a season of great beauty and also of decline. The days grow shorter and the summer’s abundance fades. Seeds take flight upon the winds and scatter to later awaken as new growth next spring. It is a paradoxical time for seeding\, covering over and allowing decay. \nWe will explore gentle movement\, mindful breath\, guided visualizations and energetic attunements to honor the beginning of fall on the Harvest Moon. With practical exercises that will address physical\, emotional\, spiritual and energetic realms\, we aim to align: heart – mind – body – being. We invite you to let go of distractions\, find focus and set clear intentions with the power of autumn.  \nFor more information please contact:\nNathalie Jaspar\, Reiki Master\nwww.natky927wellness.com\n917.499.3690 \nMichele Kong\, Holistic Coach\nwww.clearcoachingintl.com\n646.881.4307
URL:https://crsny.org/event/aligning-with-autumn-healing-energy-workshop-on-the-harvest-moon/
LOCATION:CRS (Center for Remembering & Sharing)\, 41 E 11th St 11th Fl\, New York\, NY\, 10003\, United States
CATEGORIES:Guest Event
ATTACH;FMTTYPE=image/jpeg:https://crsny.org/wp-content/uploads/2015/08/CRS-image2.jpg
ORGANIZER;CN="Michele Kong":MAILTO:Michele.L.Kong@gmail.com
GEO:40.733158;-73.992729
X-APPLE-STRUCTURED-LOCATION;VALUE=URI;X-ADDRESS=CRS (Center for Remembering & Sharing) 41 E 11th St 11th Fl New York NY 10003 United States;X-APPLE-RADIUS=500;X-TITLE=41 E 11th St 11th Fl:geo:-73.992729,40.733158
END:VEVENT
END:VCALENDAR